BEGIN:VCALENDAR
VERSION:2.0
PRODID:-//Whiting Library - ECPv6.15.16.1//NONSGML v1.0//EN
CALSCALE:GREGORIAN
METHOD:PUBLISH
X-WR-CALNAME:Whiting Library
X-ORIGINAL-URL:https://www.whitinglibrary.org
X-WR-CALDESC:Events for Whiting Library
REFRESH-INTERVAL;VALUE=DURATION:PT1H
X-Robots-Tag:noindex
X-PUBLISHED-TTL:PT1H
BEGIN:VTIMEZONE
TZID:America/New_York
BEGIN:DAYLIGHT
TZOFFSETFROM:-0500
TZOFFSETTO:-0400
TZNAME:EDT
DTSTART:20230312T070000
END:DAYLIGHT
BEGIN:STANDARD
TZOFFSETFROM:-0400
TZOFFSETTO:-0500
TZNAME:EST
DTSTART:20231105T060000
END:STANDARD
BEGIN:DAYLIGHT
TZOFFSETFROM:-0500
TZOFFSETTO:-0400
TZNAME:EDT
DTSTART:20240310T070000
END:DAYLIGHT
BEGIN:STANDARD
TZOFFSETFROM:-0400
TZOFFSETTO:-0500
TZNAME:EST
DTSTART:20241103T060000
END:STANDARD
BEGIN:DAYLIGHT
TZOFFSETFROM:-0500
TZOFFSETTO:-0400
TZNAME:EDT
DTSTART:20250309T070000
END:DAYLIGHT
BEGIN:STANDARD
TZOFFSETFROM:-0400
TZOFFSETTO:-0500
TZNAME:EST
DTSTART:20251102T060000
END:STANDARD
END:VTIMEZONE
BEGIN:VEVENT
DTSTART;TZID=America/New_York:20240105T130000
DTEND;TZID=America/New_York:20240105T140000
DTSTAMP:20260425T212940
CREATED:20231201T154000Z
LAST-MODIFIED:20240102T024323Z
UID:6989-1704459600-1704463200@www.whitinglibrary.org
SUMMARY:Adult Crafternoon: Cookies\, Coloring\, and Conversation
DESCRIPTION:Unleash the artist within! Grab a friend\, sit back\, and have a good time. We will provide refreshments\, craft materials for a simple featured craft\, coloring books\, and colored pencils; you bring the conversation. If you want\, bring a craft you are working on or try something new!
URL:https://www.whitinglibrary.org/event/cookies-coloring-and-conversation/
CATEGORIES:Adults
ATTACH;FMTTYPE=image/jpeg:https://www.whitinglibrary.org/wp-content/uploads/2023/12/adult-coloring.jpg
ORGANIZER;CN="Whiting Library":MAILTO:whitinglibrary1@gmail.com
END:VEVENT
BEGIN:VEVENT
DTSTART;TZID=America/New_York:20240112T130000
DTEND;TZID=America/New_York:20240112T140000
DTSTAMP:20260425T212940
CREATED:20231201T154131Z
LAST-MODIFIED:20240128T032040Z
UID:6992-1705064400-1705068000@www.whitinglibrary.org
SUMMARY:Adult Crafternoon: Cookies\, Crafts\, and Conversation
DESCRIPTION:Unleash the artist within! Join us for crafting and fun. Grab a friend\, sit back\, and have a good time. We will provide refreshments\, craft materials\, coloring books\, and colored pencils; you bring the conversation. If you want\, bring a craft you are working on or try something new!
URL:https://www.whitinglibrary.org/event/cookies-coloring-and-conversation-2/
CATEGORIES:Adults
ATTACH;FMTTYPE=image/jpeg:https://www.whitinglibrary.org/wp-content/uploads/2023/12/adult-coloring.jpg
ORGANIZER;CN="Whiting Library":MAILTO:whitinglibrary1@gmail.com
END:VEVENT
BEGIN:VEVENT
DTSTART;TZID=America/New_York:20240113T113000
DTEND;TZID=America/New_York:20240113T133000
DTSTAMP:20260425T212940
CREATED:20231230T051121Z
LAST-MODIFIED:20240103T014336Z
UID:7205-1705145400-1705152600@www.whitinglibrary.org
SUMMARY:Saxtons River Art Guild Exhibit Opening
DESCRIPTION:Saxtons River Art Guild members will exhibit their work at Whiting Library from Friday\, January 12\, to Friday\, February 1\, 2024. In case of snowy weather\, this exhibit opening will take place on Saturday\, January 20. \nHere are a few highlights about some of the presenting artists: John Dimick paints landscapes from various trails in New England and can be seen painting street scenes around Brattleboro on Gallery Walk nights; Kathy Greves paints a variety of subjects\, some plein air and others from photographs she has taken in and around Vermont and during her travels in France\, Italy\, Germany\, and the Bahamas; long time member Donna Lund paints regional landscapes either in watercolor or pastel; Liz Winchester-Larson works primarily in the still-life genre with rich color and intricate detail.
URL:https://www.whitinglibrary.org/event/saxtons-river-art-guild-exhibit-opening-saturday-january-13-at-1130-a-m/
CATEGORIES:Adults
ATTACH;FMTTYPE=image/jpeg:https://www.whitinglibrary.org/wp-content/uploads/2023/12/Frog-Prince-and-Pear-by-Liz-Larson.jpg
END:VEVENT
BEGIN:VEVENT
DTSTART;TZID=America/New_York:20240117T133000
DTEND;TZID=America/New_York:20240117T153000
DTSTAMP:20260425T212940
CREATED:20231230T052450Z
LAST-MODIFIED:20240101T173000Z
UID:7208-1705498200-1705505400@www.whitinglibrary.org
SUMMARY:Page to Screen Film Series: Marsh King's Daughter
DESCRIPTION:Watch and chat about a movie in a friendly environment. Reading the book is not a requirement. Free popcorn will be served. \nIn this tense thriller\, a woman with a secret past returns to the wilds of her youth to face the most dangerous man she’s ever met: her father. Helena’s (Daisy Ridley) seemingly ordinary life hides a dangerous truth: her estranged father is the infamous Marsh King (Ben Mendelsohn)\, who kept her and her mother captive in the wilderness for years. When he escapes from prison\, Helena is forced to confront her past and – knowing that he will hunt for her – find the strength to outmaneuver the man who taught her everything she knows about surviving in the wild. \nLions Gate Films\, 2023\, Rated R\, 108 minutes. \nStarring Daisy Ridley\, Ben Mendelsohn\, Garrett Hedlund\, Gil Birmingham\, Caren Pistorius
URL:https://www.whitinglibrary.org/event/page-to-screen-film-series-marsh-kings-daughter-wednesday-january-17-at-130-p-m/
CATEGORIES:Adults
ATTACH;FMTTYPE=image/jpeg:https://www.whitinglibrary.org/wp-content/uploads/2023/12/marsh-kings-daughter-scaled.jpg
END:VEVENT
BEGIN:VEVENT
DTSTART;TZID=America/New_York:20240119T130000
DTEND;TZID=America/New_York:20240119T140000
DTSTAMP:20260425T212940
CREATED:20231201T154254Z
LAST-MODIFIED:20240128T032118Z
UID:6994-1705669200-1705672800@www.whitinglibrary.org
SUMMARY:Adult Crafternoon: Cookies\, Crafts\, and Conversation
DESCRIPTION:Unleash the artist within! Join us for crafting and fun. Grab a friend\, sit back\, and have a good time. We will provide refreshments\, craft materials\, coloring books\, and colored pencils; you bring the conversation. If you want\, bring a craft you are working on or try something new!
URL:https://www.whitinglibrary.org/event/cookies-coloring-and-conversation-3/
CATEGORIES:Adults
ATTACH;FMTTYPE=image/jpeg:https://www.whitinglibrary.org/wp-content/uploads/2023/12/adult-coloring.jpg
ORGANIZER;CN="Whiting Library":MAILTO:whitinglibrary1@gmail.com
END:VEVENT
BEGIN:VEVENT
DTSTART;TZID=America/New_York:20240120T140000
DTEND;TZID=America/New_York:20240120T150000
DTSTAMP:20260425T212940
CREATED:20231230T053815Z
LAST-MODIFIED:20231231T152411Z
UID:7211-1705759200-1705762800@www.whitinglibrary.org
SUMMARY:Poetry and Pie
DESCRIPTION:Enjoy an afternoon of poetry at our open mic and pie-tasting event.
URL:https://www.whitinglibrary.org/event/poetry-and-pie/
CATEGORIES:Adults
ATTACH;FMTTYPE=image/jpeg:https://www.whitinglibrary.org/wp-content/uploads/2023/12/pies.jpg
END:VEVENT
BEGIN:VEVENT
DTSTART;TZID=America/New_York:20240124T180000
DTEND;TZID=America/New_York:20240124T190000
DTSTAMP:20260425T212940
CREATED:20231128T024009Z
LAST-MODIFIED:20240111T164850Z
UID:6902-1706119200-1706122800@www.whitinglibrary.org
SUMMARY:All About the 2024 Total Solar Eclipse
DESCRIPTION:The total solar eclipse of April 8\, 2024\, is significant because it will be within a day’s drive of one of the most populous regions of our planet. \nSouthern Vermont Astronomy Group (SoVerA) member Claudio Véliz will discuss why we have a moon in the first place and why we are so fortunate as to experience these events. Then\, how to prepare for the eclipse\, where to be\, and what to do if it’s cloudy will all be covered. The presentation will be graphic-rich\, with additional material for those who wish to delve deeper into the subject matter. Safe solar-filtered glasses will be handed out to in-person attendees\, complete with instructions on how to use them. \nClaudio Véliz pursues dual professions in architecture and astronomy. He has owned an award-winning architecture firm – Claudio Véliz Architect PLLC/AIA – since 1982\, designing residential\, institutional\, municipal\, retail\, and corporate facilities. In his astronomy track\, he was Co-Founder and twice President of SoVerA\, headquartered in Chester\, Vermont. Now lecturing in the CALL Program at Keene State College\, New Hampshire\, previously he worked and lectured at New York’s Hayden Planetarium and the Astronomy Departments at Columbia University and Castleton University.
URL:https://www.whitinglibrary.org/event/the-2024-total-solar-eclipse/
CATEGORIES:Adults,Families
ATTACH;FMTTYPE=image/jpeg:https://www.whitinglibrary.org/wp-content/uploads/2023/11/solar-eclipse-hero-blank.jpg
END:VEVENT
BEGIN:VEVENT
DTSTART;TZID=America/New_York:20240126T130000
DTEND;TZID=America/New_York:20240126T140000
DTSTAMP:20260425T212940
CREATED:20231201T154412Z
LAST-MODIFIED:20240128T010541Z
UID:6996-1706274000-1706277600@www.whitinglibrary.org
SUMMARY:Adult Crafternoon: Cookies\, Crafts\, and Conversation
DESCRIPTION:Unleash the artist within! Join us for crafting and fun. Grab a friend\, sit back\, and have a good time. We will provide refreshments\, craft materials\, coloring books\, and colored pencils; you bring the conversation. If you want\, bring a craft you are working on or try something new!
URL:https://www.whitinglibrary.org/event/cookies-coloring-and-conversation-4/
CATEGORIES:Adults
ATTACH;FMTTYPE=image/jpeg:https://www.whitinglibrary.org/wp-content/uploads/2023/12/adult-coloring.jpg
END:VEVENT
END:VCALENDAR