BEGIN:VCALENDAR
VERSION:2.0
PRODID:-//Whiting Library - ECPv6.15.16.1//NONSGML v1.0//EN
CALSCALE:GREGORIAN
METHOD:PUBLISH
X-WR-CALNAME:Whiting Library
X-ORIGINAL-URL:https://www.whitinglibrary.org
X-WR-CALDESC:Events for Whiting Library
REFRESH-INTERVAL;VALUE=DURATION:PT1H
X-Robots-Tag:noindex
X-PUBLISHED-TTL:PT1H
BEGIN:VTIMEZONE
TZID:America/New_York
BEGIN:DAYLIGHT
TZOFFSETFROM:-0500
TZOFFSETTO:-0400
TZNAME:EDT
DTSTART:20230312T070000
END:DAYLIGHT
BEGIN:STANDARD
TZOFFSETFROM:-0400
TZOFFSETTO:-0500
TZNAME:EST
DTSTART:20231105T060000
END:STANDARD
BEGIN:DAYLIGHT
TZOFFSETFROM:-0500
TZOFFSETTO:-0400
TZNAME:EDT
DTSTART:20240310T070000
END:DAYLIGHT
BEGIN:STANDARD
TZOFFSETFROM:-0400
TZOFFSETTO:-0500
TZNAME:EST
DTSTART:20241103T060000
END:STANDARD
BEGIN:DAYLIGHT
TZOFFSETFROM:-0500
TZOFFSETTO:-0400
TZNAME:EDT
DTSTART:20250309T070000
END:DAYLIGHT
BEGIN:STANDARD
TZOFFSETFROM:-0400
TZOFFSETTO:-0500
TZNAME:EST
DTSTART:20251102T060000
END:STANDARD
END:VTIMEZONE
BEGIN:VEVENT
DTSTART;TZID=America/New_York:20241101T130000
DTEND;TZID=America/New_York:20241101T140000
DTSTAMP:20260424T201717
CREATED:20240816T165810Z
LAST-MODIFIED:20240816T170219Z
UID:8455-1730466000-1730469600@www.whitinglibrary.org
SUMMARY:Adult Crafternoon
DESCRIPTION:Unleash the artist within! Join us for crafting and fun. Grab a friend\, sit back\, and have a good time. We will provide refreshments\, craft materials\, coloring books\, and colored pencils; you bring the conversation. Our current co-learning project is quilling. We have a variety of tools and papers for practice. If you want\, bring a craft you are working on or try something new!
URL:https://www.whitinglibrary.org/event/adult-crafternoon-11/
CATEGORIES:Adults
ATTACH;FMTTYPE=image/jpeg:https://www.whitinglibrary.org/wp-content/uploads/2023/12/craft-supplies.jpg
END:VEVENT
BEGIN:VEVENT
DTSTART;TZID=America/New_York:20241108T130000
DTEND;TZID=America/New_York:20241108T140000
DTSTAMP:20260424T201717
CREATED:20240816T170647Z
LAST-MODIFIED:20240816T170647Z
UID:8460-1731070800-1731074400@www.whitinglibrary.org
SUMMARY:Adult Crafternoon
DESCRIPTION:Unleash the artist within! Join us for crafting and fun. Grab a friend\, sit back\, and have a good time. We will provide refreshments\, craft materials\, coloring books\, and colored pencils; you bring the conversation. Our current co-learning project is quilling. We have a variety of tools and papers for practice. If you want\, bring a craft you are working on or try something new!
URL:https://www.whitinglibrary.org/event/adult-crafternoon-13/
CATEGORIES:Adults
ATTACH;FMTTYPE=image/jpeg:https://www.whitinglibrary.org/wp-content/uploads/2023/12/craft-supplies.jpg
END:VEVENT
BEGIN:VEVENT
DTSTART;TZID=America/New_York:20241113T163000
DTEND;TZID=America/New_York:20241113T173000
DTSTAMP:20260424T201717
CREATED:20240816T173656Z
LAST-MODIFIED:20240816T173656Z
UID:8485-1731515400-1731519000@www.whitinglibrary.org
SUMMARY:Adult Book Discussion: The 100 Year Old Man Who Climbed Out the Window and Disappeared
DESCRIPTION:If you want to participate in the book club\, please contact the library at director@WhitingLibrary.org or call 802-875-2277 to reserve a copy.
URL:https://www.whitinglibrary.org/event/adult-book-discussion-the-100-year-old-man-who-climbed-out-the-window-and-disappeared-3/
CATEGORIES:Adults
ATTACH;FMTTYPE=image/jpeg:https://www.whitinglibrary.org/wp-content/uploads/2024/08/100-year-old-man.jpg
END:VEVENT
BEGIN:VEVENT
DTSTART;TZID=America/New_York:20241115T103000
DTEND;TZID=America/New_York:20241115T113000
DTSTAMP:20260424T201717
CREATED:20240821T190226Z
LAST-MODIFIED:20240821T190226Z
UID:8524-1731666600-1731670200@www.whitinglibrary.org
SUMMARY:Emergency Preparedness Holidaypalooza
DESCRIPTION:
URL:https://www.whitinglibrary.org/event/emergency-preparedness-holidaypalooza/
LOCATION:Whiting Library\, 117 Main St.\, CHESTER\, VT\, 05143\, United States
CATEGORIES:Adults
ORGANIZER;CN="Whiting Library":MAILTO:whitinglibrary1@gmail.com
END:VEVENT
BEGIN:VEVENT
DTSTART;TZID=America/New_York:20241115T130000
DTEND;TZID=America/New_York:20241115T140000
DTSTAMP:20260424T201717
CREATED:20240816T170759Z
LAST-MODIFIED:20240816T170759Z
UID:8462-1731675600-1731679200@www.whitinglibrary.org
SUMMARY:Adult Crafternoon
DESCRIPTION:Unleash the artist within! Join us for crafting and fun. Grab a friend\, sit back\, and have a good time. We will provide refreshments\, craft materials\, coloring books\, and colored pencils; you bring the conversation. Our current co-learning project is quilling. We have a variety of tools and papers for practice. If you want\, bring a craft you are working on or try something new!
URL:https://www.whitinglibrary.org/event/adult-crafternoon-14/
CATEGORIES:Adults
ATTACH;FMTTYPE=image/jpeg:https://www.whitinglibrary.org/wp-content/uploads/2023/12/craft-supplies.jpg
END:VEVENT
BEGIN:VEVENT
DTSTART;TZID=America/New_York:20241120T133000
DTEND;TZID=America/New_York:20241120T153000
DTSTAMP:20260424T201717
CREATED:20240816T180439Z
LAST-MODIFIED:20241009T132914Z
UID:8495-1732109400-1732116600@www.whitinglibrary.org
SUMMARY:Page to Screen Film Series: About a Boy
DESCRIPTION:Join us to watch and chat about a feature movie based on a book. Reading the book is not a requirement. Free popcorn will be served. \n  \nA rakish bachelor learns to grow up after befriending an awkward lad. The chemistry between the actors drives this emotionally rich comedy-drama. The film was adapted from a Nick Hornby novel (“High Fidelity”). \nUniversal Pictures\, 2002\, PG-13\, 118 minutes
URL:https://www.whitinglibrary.org/event/page-to-screen-film-series-about-a-boy/
CATEGORIES:Adults
ATTACH;FMTTYPE=image/jpeg:https://www.whitinglibrary.org/wp-content/uploads/2024/08/about-a-boy.jpg
END:VEVENT
BEGIN:VEVENT
DTSTART;TZID=America/New_York:20241122T130000
DTEND;TZID=America/New_York:20241122T140000
DTSTAMP:20260424T201717
CREATED:20240816T170928Z
LAST-MODIFIED:20240816T170928Z
UID:8464-1732280400-1732284000@www.whitinglibrary.org
SUMMARY:Adult Crafternoon
DESCRIPTION:Unleash the artist within! Join us for crafting and fun. Grab a friend\, sit back\, and have a good time. We will provide refreshments\, craft materials\, coloring books\, and colored pencils; you bring the conversation. Our current co-learning project is quilling. We have a variety of tools and papers for practice. If you want\, bring a craft you are working on or try something new!
URL:https://www.whitinglibrary.org/event/adult-crafternoon-15/
CATEGORIES:Adults
ATTACH;FMTTYPE=image/jpeg:https://www.whitinglibrary.org/wp-content/uploads/2023/12/craft-supplies.jpg
END:VEVENT
END:VCALENDAR