BEGIN:VCALENDAR
VERSION:2.0
PRODID:-//Whiting Library - ECPv6.15.16.1//NONSGML v1.0//EN
CALSCALE:GREGORIAN
METHOD:PUBLISH
X-ORIGINAL-URL:https://www.whitinglibrary.org
X-WR-CALDESC:Events for Whiting Library
REFRESH-INTERVAL;VALUE=DURATION:PT1H
X-Robots-Tag:noindex
X-PUBLISHED-TTL:PT1H
BEGIN:VTIMEZONE
TZID:America/New_York
BEGIN:DAYLIGHT
TZOFFSETFROM:-0500
TZOFFSETTO:-0400
TZNAME:EDT
DTSTART:20230312T070000
END:DAYLIGHT
BEGIN:STANDARD
TZOFFSETFROM:-0400
TZOFFSETTO:-0500
TZNAME:EST
DTSTART:20231105T060000
END:STANDARD
BEGIN:DAYLIGHT
TZOFFSETFROM:-0500
TZOFFSETTO:-0400
TZNAME:EDT
DTSTART:20240310T070000
END:DAYLIGHT
BEGIN:STANDARD
TZOFFSETFROM:-0400
TZOFFSETTO:-0500
TZNAME:EST
DTSTART:20241103T060000
END:STANDARD
BEGIN:DAYLIGHT
TZOFFSETFROM:-0500
TZOFFSETTO:-0400
TZNAME:EDT
DTSTART:20250309T070000
END:DAYLIGHT
BEGIN:STANDARD
TZOFFSETFROM:-0400
TZOFFSETTO:-0500
TZNAME:EST
DTSTART:20251102T060000
END:STANDARD
END:VTIMEZONE
BEGIN:VEVENT
DTSTART;TZID=America/New_York:20241206T130000
DTEND;TZID=America/New_York:20241206T140000
DTSTAMP:20260424T183447
CREATED:20240816T171047Z
LAST-MODIFIED:20240816T171116Z
UID:8466-1733490000-1733493600@www.whitinglibrary.org
SUMMARY:Adult Crafternoon
DESCRIPTION:Unleash the artist within! Join us for crafting and fun. Grab a friend\, sit back\, and have a good time. We will provide refreshments\, craft materials\, coloring books\, and colored pencils; you bring the conversation. Our current co-learning project is quilling. We have a variety of tools and papers for practice. If you want\, bring a craft you are working on or try something new!
URL:https://www.whitinglibrary.org/event/adult-crafternoon-16/
CATEGORIES:Adults
ATTACH;FMTTYPE=image/jpeg:https://www.whitinglibrary.org/wp-content/uploads/2023/12/craft-supplies.jpg
END:VEVENT
BEGIN:VEVENT
DTSTART;TZID=America/New_York:20241211T163000
DTEND;TZID=America/New_York:20241211T173000
DTSTAMP:20260424T183447
CREATED:20240816T022349Z
LAST-MODIFIED:20240816T172739Z
UID:8432-1733934600-1733938200@www.whitinglibrary.org
SUMMARY:Adult Book Discussion: Commonwealth
DESCRIPTION:If you want to participate in the book club\, please contact the library at director@WhitingLibrary.org or call 802-875-2277 to reserve a copy.
URL:https://www.whitinglibrary.org/event/adult-book-discussion-the-100-year-old-man-who-climbed-out-the-window-and-disappeared/
CATEGORIES:Adults,Book Discussion
ATTACH;FMTTYPE=image/jpeg:https://www.whitinglibrary.org/wp-content/uploads/2024/08/commonwealth.jpg
END:VEVENT
BEGIN:VEVENT
DTSTART;TZID=America/New_York:20241213T130000
DTEND;TZID=America/New_York:20241213T140000
DTSTAMP:20260424T183447
CREATED:20240816T171232Z
LAST-MODIFIED:20240816T171232Z
UID:8468-1734094800-1734098400@www.whitinglibrary.org
SUMMARY:Adult Crafternoon
DESCRIPTION:Unleash the artist within! Join us for crafting and fun. Grab a friend\, sit back\, and have a good time. We will provide refreshments\, craft materials\, coloring books\, and colored pencils; you bring the conversation. Our current co-learning project is quilling. We have a variety of tools and papers for practice. If you want\, bring a craft you are working on or try something new!
URL:https://www.whitinglibrary.org/event/adult-crafternoon-17/
CATEGORIES:Adults
ATTACH;FMTTYPE=image/jpeg:https://www.whitinglibrary.org/wp-content/uploads/2023/12/craft-supplies.jpg
END:VEVENT
BEGIN:VEVENT
DTSTART;TZID=America/New_York:20241214T130000
DTEND;TZID=America/New_York:20241214T140000
DTSTAMP:20260424T183447
CREATED:20240909T164952Z
LAST-MODIFIED:20240909T164952Z
UID:8650-1734181200-1734184800@www.whitinglibrary.org
SUMMARY:Winter Reading Coffee\, Tea\, and Cookie Party at Whiting Library!
DESCRIPTION:Enjoy various teas and cookies while you make a simple winter craft. You can meet our new librarian\, get a library card\, visit our used bookstore\, and sign up for our Winter Reading Program.
URL:https://www.whitinglibrary.org/event/winter-reading-coffee-tea-and-cookie-party-at-whiting-library/
CATEGORIES:Adults,Children and Youth Events
ATTACH;FMTTYPE=image/webp:https://www.whitinglibrary.org/wp-content/uploads/2023/11/teaparty.webp
END:VEVENT
BEGIN:VEVENT
DTSTART;TZID=America/New_York:20241218T133000
DTEND;TZID=America/New_York:20241218T150000
DTSTAMP:20260424T183447
CREATED:20240816T181947Z
LAST-MODIFIED:20240816T181947Z
UID:8498-1734528600-1734534000@www.whitinglibrary.org
SUMMARY:Page to Screen Film Series: A Gift from Bob
DESCRIPTION:Join us to watch and chat about a feature movie based on a book. Reading the book is not a requirement. Free popcorn will be served. \n  \nChristmas gifts come in all shapes and sizes. For James (Luke Treadaway)\, a struggling street musician\, a very special one arrives in the form of Bob\, a strong-willed stray cat who wanders into James’s tiny flat. Bob enriches James’s life\, giving him companionship\, purpose\, and a large\, new audience. When Animal Welfare officers threaten to take Bob\, the local community rallies to help James and Bob — sparking a journey that takes the pair to places they never imagined in this heartwarming\, spirit-lifting movie for the whole family. \nLions Gate Films\, 2020\, 92 minutes\, TV-PG
URL:https://www.whitinglibrary.org/event/page-to-screen-film-series-a-gift-from-bob/
CATEGORIES:Adults
ATTACH;FMTTYPE=image/jpeg:https://www.whitinglibrary.org/wp-content/uploads/2024/08/gift-from-bob.jpg
END:VEVENT
BEGIN:VEVENT
DTSTART;TZID=America/New_York:20241220T130000
DTEND;TZID=America/New_York:20241220T140000
DTSTAMP:20260424T183447
CREATED:20240816T171351Z
LAST-MODIFIED:20240816T171351Z
UID:8470-1734699600-1734703200@www.whitinglibrary.org
SUMMARY:Adult Crafternoon
DESCRIPTION:Unleash the artist within! Join us for crafting and fun. Grab a friend\, sit back\, and have a good time. We will provide refreshments\, craft materials\, coloring books\, and colored pencils; you bring the conversation. Our current co-learning project is quilling. We have a variety of tools and papers for practice. If you want\, bring a craft you are working on or try something new!
URL:https://www.whitinglibrary.org/event/adult-crafternoon-18/
CATEGORIES:Adults
ATTACH;FMTTYPE=image/jpeg:https://www.whitinglibrary.org/wp-content/uploads/2023/12/craft-supplies.jpg
END:VEVENT
BEGIN:VEVENT
DTSTART;TZID=America/New_York:20241227T130000
DTEND;TZID=America/New_York:20241227T140000
DTSTAMP:20260424T183447
CREATED:20240816T171533Z
LAST-MODIFIED:20240816T171533Z
UID:8472-1735304400-1735308000@www.whitinglibrary.org
SUMMARY:Adult Crafternoon
DESCRIPTION:Unleash the artist within! Join us for crafting and fun. Grab a friend\, sit back\, and have a good time. We will provide refreshments\, craft materials\, coloring books\, and colored pencils; you bring the conversation. Our current co-learning project is quilling. We have a variety of tools and papers for practice. If you want\, bring a craft you are working on or try something new!
URL:https://www.whitinglibrary.org/event/adult-crafternoon-19/
CATEGORIES:Adults
ATTACH;FMTTYPE=image/jpeg:https://www.whitinglibrary.org/wp-content/uploads/2023/12/craft-supplies.jpg
END:VEVENT
END:VCALENDAR