BEGIN:VCALENDAR
VERSION:2.0
PRODID:-//Whiting Library - ECPv6.15.16.1//NONSGML v1.0//EN
CALSCALE:GREGORIAN
METHOD:PUBLISH
X-ORIGINAL-URL:https://www.whitinglibrary.org
X-WR-CALDESC:Events for Whiting Library
REFRESH-INTERVAL;VALUE=DURATION:PT1H
X-Robots-Tag:noindex
X-PUBLISHED-TTL:PT1H
BEGIN:VTIMEZONE
TZID:America/New_York
BEGIN:DAYLIGHT
TZOFFSETFROM:-0500
TZOFFSETTO:-0400
TZNAME:EDT
DTSTART:20250309T070000
END:DAYLIGHT
BEGIN:STANDARD
TZOFFSETFROM:-0400
TZOFFSETTO:-0500
TZNAME:EST
DTSTART:20251102T060000
END:STANDARD
BEGIN:DAYLIGHT
TZOFFSETFROM:-0500
TZOFFSETTO:-0400
TZNAME:EDT
DTSTART:20260308T070000
END:DAYLIGHT
BEGIN:STANDARD
TZOFFSETFROM:-0400
TZOFFSETTO:-0500
TZNAME:EST
DTSTART:20261101T060000
END:STANDARD
BEGIN:DAYLIGHT
TZOFFSETFROM:-0500
TZOFFSETTO:-0400
TZNAME:EDT
DTSTART:20270314T070000
END:DAYLIGHT
BEGIN:STANDARD
TZOFFSETFROM:-0400
TZOFFSETTO:-0500
TZNAME:EST
DTSTART:20271107T060000
END:STANDARD
END:VTIMEZONE
BEGIN:VEVENT
DTSTART;TZID=America/New_York:20260305T140000
DTEND;TZID=America/New_York:20260305T150000
DTSTAMP:20260423T163145
CREATED:20260305T185421Z
LAST-MODIFIED:20260305T192516Z
UID:11843-1772719200-1772722800@www.whitinglibrary.org
SUMMARY:Drop-In Tech Help
DESCRIPTION:Have you run into a technology issue you just can’t figure out? Would you like some help? Every Thursday from 2-3 our “techie” librarian Kale sits down with folks to answer questions\, teach skills\, and talk through your pesky computer and mobile device problems with you. \nCall to schedule at (802) 875-2277\, email assistantlibrarian@whitinglibrary.org\, or just come by the library!
URL:https://www.whitinglibrary.org/event/tech-help-drop-in/
LOCATION:Whiting Library\, 117 Main St.\, CHESTER\, VT\, 05143\, United States
CATEGORIES:Adults
ORGANIZER;CN="Whiting Library":MAILTO:whitinglibrary1@gmail.com
END:VEVENT
BEGIN:VEVENT
DTSTART;TZID=America/New_York:20260312T140000
DTEND;TZID=America/New_York:20260312T150000
DTSTAMP:20260423T163145
CREATED:20260305T192033Z
LAST-MODIFIED:20260305T192417Z
UID:11849-1773324000-1773327600@www.whitinglibrary.org
SUMMARY:Drop-In Tech Help
DESCRIPTION:Have you run into a technology issue you just can’t figure out? Would you like some help? Every Thursday from 2-3 our “techie” librarian Kale sits down with folks to answer questions\, teach skills\, and talk through your pesky computer and mobile device problems with you. \nCall to schedule at (802) 875-2277\, email assistantlibrarian@whitinglibrary.org\, or just come by the library!
URL:https://www.whitinglibrary.org/event/drop-in-tech-help-7/
LOCATION:Whiting Library\, 117 Main St.\, CHESTER\, VT\, 05143\, United States
CATEGORIES:Adults
ORGANIZER;CN="Whiting Library":MAILTO:whitinglibrary1@gmail.com
END:VEVENT
BEGIN:VEVENT
DTSTART;TZID=America/New_York:20260319T140000
DTEND;TZID=America/New_York:20260319T150000
DTSTAMP:20260423T163145
CREATED:20260305T192318Z
LAST-MODIFIED:20260305T192318Z
UID:11851-1773928800-1773932400@www.whitinglibrary.org
SUMMARY:Drop-In Tech Help
DESCRIPTION:Have you run into a technology issue you just can’t figure out? Would you like some help? Every Thursday from 2-3 our “techie” librarian Kale sits down with folks to answer questions\, teach skills\, and talk through your pesky computer and mobile device problems with you. \nCall to schedule at (802) 875-2277\, email assistantlibrarian@whitinglibrary.org\, or just come by the library!
URL:https://www.whitinglibrary.org/event/drop-in-tech-help-8/
LOCATION:Whiting Library\, 117 Main St.\, CHESTER\, VT\, 05143\, United States
CATEGORIES:Adults
ORGANIZER;CN="Whiting Library":MAILTO:whitinglibrary1@gmail.com
END:VEVENT
BEGIN:VEVENT
DTSTART;TZID=America/New_York:20260324T140000
DTEND;TZID=America/New_York:20260324T150000
DTSTAMP:20260423T163145
CREATED:20260324T170850Z
LAST-MODIFIED:20260324T194315Z
UID:12017-1774360800-1774364400@www.whitinglibrary.org
SUMMARY:Virtual Author Talks: America’s Failed Response to the Opioid Crisis with Author Shoshana Walter With Special Guest Host Barbara Kingsolver
DESCRIPTION:PLEASE REGISTER HERE: https://libraryc.org/whitinglibrary/117440/register\n\nWATCH THE RECORDING HERE: https://libraryc.org/whitinglibrary/archive\n\nJoin us for a special conversation between award-winning journalist Shoshana Walter and bestselling and award-winning author Barbara Kingsolver as they chat about Walter’s book Rehab: An American Scandal. In this work\, Walter\, a Pulitzer finalist\, exposes the country’s failed response to the opioid crisis\, and the malfeasance\, corruption\, and snake oil which blight the drug rehabilitation industry. \nToday\, more people have access to treatment than ever before. So why isn’t it working? The answer is that in America—where anyone can get addicted—only certain people get a real chance to recover. Despite record numbers of overdose deaths\, our default response is still to punish\, while rehabs across the United States fail to incorporate scientifically proven strategies and exploit patients. \nIn this book\, you’ll find the stories of four people who represent the failures of the rehab-industrial complex\, and the ways our treatment system often prevents recovery. April is a black mom in Philadelphia\, who witnessed firsthand how the government’s punitive response to the crack epidemic impeded her mother’s recovery—and then her own. Chris\, a young middle-class white man from Louisiana\, received more opportunities in his addiction than April\, including the chance to go to treatment instead of prison. Yet the only program the judge permitted was one that forced him to perform unpaid back-breaking labor at for-profit companies. Wendy is a mother from a wealthy suburb of Los Angeles\, whose son died in a sober living home. She began investigating for-profit treatment programs—yet law enforcement and regulators routinely ignored her warnings\, allowing rehab patients to die\, again and again. Larry is a surgeon who himself struggled with addiction\, and would eventually become one of the first Suboxone prescribers in the nation\, drawing the scrutiny of the Drug Enforcement Administration. \nBe sure to register now to participate in this urgent conversation and learn insight on how we might fix the system to save lives. \nAbout the Author:  \nShoshana Walter is a reporter for the Marshall Project covering the criminal justice system. Her reporting has been honored as a finalist for the Pulitzer Prize and Selden Ring\, and she has won the Knight Award for Public Service\, the Edward R. Murrow Award\, and the Livingston Award for Young Journalists. She started her work on the treatment system at The Center for Investigative Reporting\, where her work appeared in The New York Times Magazine\, in newspapers\, and on NPR stations across the country. She is based in Oakland\, California. \nAbout the Guest Host: \nBarbara Ellen Kingsolver is a Pulitzer Prize-winning American novelist\, essayist\, and poet. Her widely known works include The Poisonwood Bible\, the tale of a missionary family in the Congo\, and Animal\, Vegetable\, Miracle\, a nonfiction account of her family’s attempts to eat locally. In 2023\, she was awarded the Pulitzer Prize for Fiction for the novel Demon Copperhead. Her work often focuses on topics such as social justice\, biodiversity\, and the interaction between humans and their communities and environments.
URL:https://www.whitinglibrary.org/event/virtual-author-talks-americas-failed-response-to-the-opioid-crisis-with-author-shoshana-walter-with-special-guest-host-barbara-kingsolver/
CATEGORIES:Adults,Book Discussion
END:VEVENT
BEGIN:VEVENT
DTSTART;TZID=America/New_York:20260326T140000
DTEND;TZID=America/New_York:20260326T150000
DTSTAMP:20260423T163145
CREATED:20260305T192722Z
LAST-MODIFIED:20260305T192722Z
UID:11853-1774533600-1774537200@www.whitinglibrary.org
SUMMARY:Drop-In Tech Help
DESCRIPTION:Have you run into a technology issue you just can’t figure out? Would you like some help? Every Thursday from 2-3 our “techie” librarian Kale sits down with folks to answer questions\, teach skills\, and talk through your pesky computer and mobile device problems with you. \nCall to schedule at (802) 875-2277\, email assistantlibrarian@whitinglibrary.org\, or just come by the library!
URL:https://www.whitinglibrary.org/event/drop-in-tech-help-9/
LOCATION:Whiting Library\, 117 Main St.\, CHESTER\, VT\, 05143\, United States
CATEGORIES:Adults
ORGANIZER;CN="Whiting Library":MAILTO:whitinglibrary1@gmail.com
END:VEVENT
BEGIN:VEVENT
DTSTART;TZID=America/New_York:20260327T150000
DTEND;TZID=America/New_York:20260327T160000
DTSTAMP:20260423T163145
CREATED:20260313T200749Z
LAST-MODIFIED:20260320T192709Z
UID:11902-1774623600-1774627200@www.whitinglibrary.org
SUMMARY:Flight Path: Discover Our Feathered Neighbors
DESCRIPTION:Join us\, Friday\, March 27\, 3-4PM at the Whiting Library for Flight Path\, a fun and interactive program celebrating the resident and migratory birds that share our community. Through games and activities\, participants will learn more about the fascinating avian neighbors that pass through or call our region home. \nTest your knowledge with a bird trivia game\, try a bird matching challenge\, and discover ways to explore birdwatching in your own backyard. Plus\, explore a special display of birding books curated for all ages. \nWe’ll also debut the library’s new Birding Backpacks\, a grab-and-go kit filled with tools to help you start observing birds. Patrons can also check out the library’s Sibley’s Birding Bingo game\, a bird-themed puzzle\, and a birding board game from our Library of Things for even more birding fun at home. \nThroughout March\, enter our raffle for a birding prize basket\, featuring a reusable water bottle\, bird-friendly coffee\, and reflective window tape designed to help prevent bird collisions. \nCome celebrate birds with the Whiting Library and learn simple ways to enjoy and protect them!
URL:https://www.whitinglibrary.org/event/flight-path-discover-our-feathered-neighbors/
LOCATION:Whiting Library\, 117 Main St.\, CHESTER\, VT\, 05143\, United States
CATEGORIES:Adults,Children and Youth Events
ATTACH;FMTTYPE=image/jpeg:https://www.whitinglibrary.org/wp-content/uploads/2026/03/Flight-Path.jpg
ORGANIZER;CN="Whiting Library":MAILTO:whitinglibrary1@gmail.com
END:VEVENT
BEGIN:VEVENT
DTSTART;TZID=America/New_York:20260328T110000
DTEND;TZID=America/New_York:20260328T130000
DTSTAMP:20260423T163145
CREATED:20260318T215046Z
LAST-MODIFIED:20260318T215046Z
UID:11931-1774695600-1774702800@www.whitinglibrary.org
SUMMARY:Books\, Birds\, and Baked Goods!
DESCRIPTION:Join Whiting Library’s open house to celebrate the reopening of the renovated downstairs on Saturday\, March 28th from 11AM to 1PM. Shop in our book sale room\, learn all about birds\, munch on homemade treats\, and get your library card while you’re at it! \n \nVisit the Book Sale Room for huge discounts and a brown bag sale on library discards. Still looking for more books? Pick up a free copy of the Vermont Reads book of the year\, The Light Pirate by Lily Brooks-Dalton\, a poignant story about resilience and adaptation in a shifting landscape. Next\, explore the stacks upstairs to find a new favorite book or DVD or to discover the Library of Things. \n \nIn honor of receiving the Flight Path grant\, the library is getting bird-brained. Borrow the birding backpacks\, play with the new themed bird ID take-away box\, try bird bingo\, or chill with a birdsong book. Stop in to watch two short documentaries and pick up window decals that protect our feathered friends. Take a gander at our themed bird displays and find the hidden birds. \nOf course\, don’t forget to grab a delicious home-made treat before you leave. Got questions? Email info@whitinglibrary.org or call 802-875-2277 or stop in at 117 Main St in Chester. See you at the library!
URL:https://www.whitinglibrary.org/event/books-birds-and-baked-goods/
LOCATION:Whiting Library\, 117 Main St.\, CHESTER\, VT\, 05143\, United States
CATEGORIES:Adults,Children and Youth Events,Families
ORGANIZER;CN="Whiting Library":MAILTO:whitinglibrary1@gmail.com
END:VEVENT
END:VCALENDAR