BEGIN:VCALENDAR
VERSION:2.0
PRODID:-//Whiting Library - ECPv6.15.16.1//NONSGML v1.0//EN
CALSCALE:GREGORIAN
METHOD:PUBLISH
X-ORIGINAL-URL:https://www.whitinglibrary.org
X-WR-CALDESC:Events for Whiting Library
REFRESH-INTERVAL;VALUE=DURATION:PT1H
X-Robots-Tag:noindex
X-PUBLISHED-TTL:PT1H
BEGIN:VTIMEZONE
TZID:America/New_York
BEGIN:DAYLIGHT
TZOFFSETFROM:-0500
TZOFFSETTO:-0400
TZNAME:EDT
DTSTART:20230312T070000
END:DAYLIGHT
BEGIN:STANDARD
TZOFFSETFROM:-0400
TZOFFSETTO:-0500
TZNAME:EST
DTSTART:20231105T060000
END:STANDARD
BEGIN:DAYLIGHT
TZOFFSETFROM:-0500
TZOFFSETTO:-0400
TZNAME:EDT
DTSTART:20240310T070000
END:DAYLIGHT
BEGIN:STANDARD
TZOFFSETFROM:-0400
TZOFFSETTO:-0500
TZNAME:EST
DTSTART:20241103T060000
END:STANDARD
BEGIN:DAYLIGHT
TZOFFSETFROM:-0500
TZOFFSETTO:-0400
TZNAME:EDT
DTSTART:20250309T070000
END:DAYLIGHT
BEGIN:STANDARD
TZOFFSETFROM:-0400
TZOFFSETTO:-0500
TZNAME:EST
DTSTART:20251102T060000
END:STANDARD
END:VTIMEZONE
BEGIN:VEVENT
DTSTART;TZID=America/New_York:20240112T130000
DTEND;TZID=America/New_York:20240112T140000
DTSTAMP:20260425T231220
CREATED:20231201T154131Z
LAST-MODIFIED:20240128T032040Z
UID:6992-1705064400-1705068000@www.whitinglibrary.org
SUMMARY:Adult Crafternoon: Cookies\, Crafts\, and Conversation
DESCRIPTION:Unleash the artist within! Join us for crafting and fun. Grab a friend\, sit back\, and have a good time. We will provide refreshments\, craft materials\, coloring books\, and colored pencils; you bring the conversation. If you want\, bring a craft you are working on or try something new!
URL:https://www.whitinglibrary.org/event/cookies-coloring-and-conversation-2/
CATEGORIES:Adults
ATTACH;FMTTYPE=image/jpeg:https://www.whitinglibrary.org/wp-content/uploads/2023/12/adult-coloring.jpg
ORGANIZER;CN="Whiting Library":MAILTO:whitinglibrary1@gmail.com
END:VEVENT
END:VCALENDAR