BEGIN:VCALENDAR
VERSION:2.0
PRODID:-//Whiting Library - ECPv6.15.16.1//NONSGML v1.0//EN
CALSCALE:GREGORIAN
METHOD:PUBLISH
X-WR-CALNAME:Whiting Library
X-ORIGINAL-URL:https://www.whitinglibrary.org
X-WR-CALDESC:Events for Whiting Library
REFRESH-INTERVAL;VALUE=DURATION:PT1H
X-Robots-Tag:noindex
X-PUBLISHED-TTL:PT1H
BEGIN:VTIMEZONE
TZID:America/New_York
BEGIN:DAYLIGHT
TZOFFSETFROM:-0500
TZOFFSETTO:-0400
TZNAME:EDT
DTSTART:20230312T070000
END:DAYLIGHT
BEGIN:STANDARD
TZOFFSETFROM:-0400
TZOFFSETTO:-0500
TZNAME:EST
DTSTART:20231105T060000
END:STANDARD
BEGIN:DAYLIGHT
TZOFFSETFROM:-0500
TZOFFSETTO:-0400
TZNAME:EDT
DTSTART:20240310T070000
END:DAYLIGHT
BEGIN:STANDARD
TZOFFSETFROM:-0400
TZOFFSETTO:-0500
TZNAME:EST
DTSTART:20241103T060000
END:STANDARD
BEGIN:DAYLIGHT
TZOFFSETFROM:-0500
TZOFFSETTO:-0400
TZNAME:EDT
DTSTART:20250309T070000
END:DAYLIGHT
BEGIN:STANDARD
TZOFFSETFROM:-0400
TZOFFSETTO:-0500
TZNAME:EST
DTSTART:20251102T060000
END:STANDARD
END:VTIMEZONE
BEGIN:VEVENT
DTSTART;TZID=America/New_York:20240117T133000
DTEND;TZID=America/New_York:20240117T153000
DTSTAMP:20260425T231159
CREATED:20231230T052450Z
LAST-MODIFIED:20240101T173000Z
UID:7208-1705498200-1705505400@www.whitinglibrary.org
SUMMARY:Page to Screen Film Series: Marsh King's Daughter
DESCRIPTION:Watch and chat about a movie in a friendly environment. Reading the book is not a requirement. Free popcorn will be served. \nIn this tense thriller\, a woman with a secret past returns to the wilds of her youth to face the most dangerous man she’s ever met: her father. Helena’s (Daisy Ridley) seemingly ordinary life hides a dangerous truth: her estranged father is the infamous Marsh King (Ben Mendelsohn)\, who kept her and her mother captive in the wilderness for years. When he escapes from prison\, Helena is forced to confront her past and – knowing that he will hunt for her – find the strength to outmaneuver the man who taught her everything she knows about surviving in the wild. \nLions Gate Films\, 2023\, Rated R\, 108 minutes. \nStarring Daisy Ridley\, Ben Mendelsohn\, Garrett Hedlund\, Gil Birmingham\, Caren Pistorius
URL:https://www.whitinglibrary.org/event/page-to-screen-film-series-marsh-kings-daughter-wednesday-january-17-at-130-p-m/
CATEGORIES:Adults
ATTACH;FMTTYPE=image/jpeg:https://www.whitinglibrary.org/wp-content/uploads/2023/12/marsh-kings-daughter-scaled.jpg
END:VEVENT
END:VCALENDAR