BEGIN:VCALENDAR
VERSION:2.0
PRODID:-//Whiting Library - ECPv6.15.16.1//NONSGML v1.0//EN
CALSCALE:GREGORIAN
METHOD:PUBLISH
X-ORIGINAL-URL:https://www.whitinglibrary.org
X-WR-CALDESC:Events for Whiting Library
REFRESH-INTERVAL;VALUE=DURATION:PT1H
X-Robots-Tag:noindex
X-PUBLISHED-TTL:PT1H
BEGIN:VTIMEZONE
TZID:America/New_York
BEGIN:DAYLIGHT
TZOFFSETFROM:-0500
TZOFFSETTO:-0400
TZNAME:EDT
DTSTART:20230312T070000
END:DAYLIGHT
BEGIN:STANDARD
TZOFFSETFROM:-0400
TZOFFSETTO:-0500
TZNAME:EST
DTSTART:20231105T060000
END:STANDARD
BEGIN:DAYLIGHT
TZOFFSETFROM:-0500
TZOFFSETTO:-0400
TZNAME:EDT
DTSTART:20240310T070000
END:DAYLIGHT
BEGIN:STANDARD
TZOFFSETFROM:-0400
TZOFFSETTO:-0500
TZNAME:EST
DTSTART:20241103T060000
END:STANDARD
BEGIN:DAYLIGHT
TZOFFSETFROM:-0500
TZOFFSETTO:-0400
TZNAME:EDT
DTSTART:20250309T070000
END:DAYLIGHT
BEGIN:STANDARD
TZOFFSETFROM:-0400
TZOFFSETTO:-0500
TZNAME:EST
DTSTART:20251102T060000
END:STANDARD
END:VTIMEZONE
BEGIN:VEVENT
DTSTART;TZID=America/New_York:20240210T120000
DTEND;TZID=America/New_York:20240210T130000
DTSTAMP:20260425T213204
CREATED:20231230T055101Z
LAST-MODIFIED:20231231T153124Z
UID:7220-1707566400-1707570000@www.whitinglibrary.org
SUMMARY:Souper Bowl
DESCRIPTION:Bring in your favorite soup to share. We’ll vote on our favorite soup and play some trivia. Please join us\, even if you don’t bring soup. Everyone is welcome!
URL:https://www.whitinglibrary.org/event/souper-bowl/
CATEGORIES:Adults,Families
ATTACH;FMTTYPE=image/jpeg:https://www.whitinglibrary.org/wp-content/uploads/2023/12/soup.jpg
END:VEVENT
END:VCALENDAR