BEGIN:VCALENDAR
VERSION:2.0
PRODID:-//Whiting Library - ECPv6.15.16.1//NONSGML v1.0//EN
CALSCALE:GREGORIAN
METHOD:PUBLISH
X-WR-CALNAME:Whiting Library
X-ORIGINAL-URL:https://www.whitinglibrary.org
X-WR-CALDESC:Events for Whiting Library
REFRESH-INTERVAL;VALUE=DURATION:PT1H
X-Robots-Tag:noindex
X-PUBLISHED-TTL:PT1H
BEGIN:VTIMEZONE
TZID:America/New_York
BEGIN:DAYLIGHT
TZOFFSETFROM:-0500
TZOFFSETTO:-0400
TZNAME:EDT
DTSTART:20230312T070000
END:DAYLIGHT
BEGIN:STANDARD
TZOFFSETFROM:-0400
TZOFFSETTO:-0500
TZNAME:EST
DTSTART:20231105T060000
END:STANDARD
BEGIN:DAYLIGHT
TZOFFSETFROM:-0500
TZOFFSETTO:-0400
TZNAME:EDT
DTSTART:20240310T070000
END:DAYLIGHT
BEGIN:STANDARD
TZOFFSETFROM:-0400
TZOFFSETTO:-0500
TZNAME:EST
DTSTART:20241103T060000
END:STANDARD
BEGIN:DAYLIGHT
TZOFFSETFROM:-0500
TZOFFSETTO:-0400
TZNAME:EDT
DTSTART:20250309T070000
END:DAYLIGHT
BEGIN:STANDARD
TZOFFSETFROM:-0400
TZOFFSETTO:-0500
TZNAME:EST
DTSTART:20251102T060000
END:STANDARD
END:VTIMEZONE
BEGIN:VEVENT
DTSTART;TZID=America/New_York:20240221T133000
DTEND;TZID=America/New_York:20240221T154000
DTSTAMP:20260425T231154
CREATED:20231230T060416Z
LAST-MODIFIED:20231231T153426Z
UID:7234-1708522200-1708530000@www.whitinglibrary.org
SUMMARY:Page to Screen Film Series: Rebecca (1940)
DESCRIPTION:Join us to watch and chat about a feature movie based on a book. This month’s film\, “Rebecca\,” is based on the book written by Daphne du Maurier. Reading the book is not a requirement. Free popcorn will be served. Alfred Hitchcock directed this Oscar-winning story of a marriage haunted by the aura of the husband’s dead first wife.Walt Disney\, 1940\, Rated PG\, 130 minutes. \nStarring Laurence Olivier\, Joan Fontaine\, Judith Anderson\, George Sanders\, and Nigel Bruce. \n\n\n\n\n\n 
URL:https://www.whitinglibrary.org/event/page-to-screen-film-series-rebecca-1940/
CATEGORIES:Adults
ATTACH;FMTTYPE=image/jpeg:https://www.whitinglibrary.org/wp-content/uploads/2023/12/rebecca.jpg
END:VEVENT
END:VCALENDAR