BEGIN:VCALENDAR
VERSION:2.0
PRODID:-//Whiting Library - ECPv6.15.16.1//NONSGML v1.0//EN
CALSCALE:GREGORIAN
METHOD:PUBLISH
X-WR-CALNAME:Whiting Library
X-ORIGINAL-URL:https://www.whitinglibrary.org
X-WR-CALDESC:Events for Whiting Library
REFRESH-INTERVAL;VALUE=DURATION:PT1H
X-Robots-Tag:noindex
X-PUBLISHED-TTL:PT1H
BEGIN:VTIMEZONE
TZID:America/New_York
BEGIN:DAYLIGHT
TZOFFSETFROM:-0500
TZOFFSETTO:-0400
TZNAME:EDT
DTSTART:20230312T070000
END:DAYLIGHT
BEGIN:STANDARD
TZOFFSETFROM:-0400
TZOFFSETTO:-0500
TZNAME:EST
DTSTART:20231105T060000
END:STANDARD
BEGIN:DAYLIGHT
TZOFFSETFROM:-0500
TZOFFSETTO:-0400
TZNAME:EDT
DTSTART:20240310T070000
END:DAYLIGHT
BEGIN:STANDARD
TZOFFSETFROM:-0400
TZOFFSETTO:-0500
TZNAME:EST
DTSTART:20241103T060000
END:STANDARD
BEGIN:DAYLIGHT
TZOFFSETFROM:-0500
TZOFFSETTO:-0400
TZNAME:EDT
DTSTART:20250309T070000
END:DAYLIGHT
BEGIN:STANDARD
TZOFFSETFROM:-0400
TZOFFSETTO:-0500
TZNAME:EST
DTSTART:20251102T060000
END:STANDARD
END:VTIMEZONE
BEGIN:VEVENT
DTSTART;TZID=America/New_York:20240320T133000
DTEND;TZID=America/New_York:20240320T154000
DTSTAMP:20260425T193245
CREATED:20231230T062144Z
LAST-MODIFIED:20240304T041733Z
UID:7246-1710941400-1710949200@www.whitinglibrary.org
SUMMARY:Page to Screen Film Series: The Color Purple (2023)
DESCRIPTION:Join us to watch and chat about a feature movie based on a book. This month’s film\, “The Color Purple\,” is based on a book by Alice Walker. Reading the book is not a requirement. Free popcorn will be served. \nThis is a musical adaptation of Alice Walker’s novel about the life-long struggles of an African American woman living in the South during the early 1900s. \nWarner Brothers\, 2023\, Rated PG 13\, 140 minutes. \nStarring Halle Bailey\, Taraji P. Henson\, Aunjanue Ellis-Taylor\, and Elizabeth Marvel.
URL:https://www.whitinglibrary.org/event/page-to-screen-film-series-the-color-purple-2023/
CATEGORIES:Adults
ATTACH;FMTTYPE=image/jpeg:https://www.whitinglibrary.org/wp-content/uploads/2023/12/color-purple-scaled.jpg
END:VEVENT
END:VCALENDAR