BEGIN:VCALENDAR
VERSION:2.0
PRODID:-//Whiting Library - ECPv6.15.16.1//NONSGML v1.0//EN
CALSCALE:GREGORIAN
METHOD:PUBLISH
X-WR-CALNAME:Whiting Library
X-ORIGINAL-URL:https://www.whitinglibrary.org
X-WR-CALDESC:Events for Whiting Library
REFRESH-INTERVAL;VALUE=DURATION:PT1H
X-Robots-Tag:noindex
X-PUBLISHED-TTL:PT1H
BEGIN:VTIMEZONE
TZID:America/New_York
BEGIN:DAYLIGHT
TZOFFSETFROM:-0500
TZOFFSETTO:-0400
TZNAME:EDT
DTSTART:20230312T070000
END:DAYLIGHT
BEGIN:STANDARD
TZOFFSETFROM:-0400
TZOFFSETTO:-0500
TZNAME:EST
DTSTART:20231105T060000
END:STANDARD
BEGIN:DAYLIGHT
TZOFFSETFROM:-0500
TZOFFSETTO:-0400
TZNAME:EDT
DTSTART:20240310T070000
END:DAYLIGHT
BEGIN:STANDARD
TZOFFSETFROM:-0400
TZOFFSETTO:-0500
TZNAME:EST
DTSTART:20241103T060000
END:STANDARD
BEGIN:DAYLIGHT
TZOFFSETFROM:-0500
TZOFFSETTO:-0400
TZNAME:EDT
DTSTART:20250309T070000
END:DAYLIGHT
BEGIN:STANDARD
TZOFFSETFROM:-0400
TZOFFSETTO:-0500
TZNAME:EST
DTSTART:20251102T060000
END:STANDARD
END:VTIMEZONE
BEGIN:VEVENT
DTSTART;TZID=America/New_York:20240327T180000
DTEND;TZID=America/New_York:20240327T190000
DTSTAMP:20260425T193243
CREATED:20231128T022639Z
LAST-MODIFIED:20231201T155106Z
UID:6899-1711562400-1711566000@www.whitinglibrary.org
SUMMARY:The Red Scare in Vermont
DESCRIPTION:What happened in Vermont when the anti-Communist fear known as the “Red Scare” swept the country? Quite a bit\, as it turns out. Rick Winston\, author of the recently published “Red Scare in the Green Mountains: Vermont in the McCarty Era\,” explores some forgotten history as we see how a small\, rural “rock-ribbed Republican” state with a historically libertarian streak handled the hysteria of the time. \nThere were several fascinating stories in the Green Mountains\, including a high-profile academic firing\, a conservative senator who helped take down Joseph McCarthy\, controversies involving left-leaning summer residents\, and some veteran newspaper editors who spoke out against McCarthy’s tactics. \nRick Winston was the co-owner of Montpelier’s Savoy Theater for 29 years\, and was Programming Director for the Green Mountain Film Festival for 14 years. He has taught film history at Burlington College\, Community College of Vermont\, Goddard College\, and the Osher Lifelong Learning Institute\, and has made presentations throughout Vermont on film history. \nThis talk is free\, open to the public\, and accessible to those with disabilities. To request accommodations or for more information\, contact the library at 802-875-2277 or info@whitinglibrary.org. \nThe Red Scare in Vermont is a Vermont Humanities Council program hosted by Whiting Library. (Supported in part by the National Endowment for the Humanities. Any views\, findings\, conclusions\, or recommendations expressed in this program do not necessarily represent those of the NEH and VHC).
URL:https://www.whitinglibrary.org/event/the-red-scare-in-vermont/
CATEGORIES:Adults
ATTACH;FMTTYPE=image/jpeg:https://www.whitinglibrary.org/wp-content/uploads/2023/11/red-scare.jpg
END:VEVENT
END:VCALENDAR