BEGIN:VCALENDAR
VERSION:2.0
PRODID:-//Whiting Library - ECPv6.15.16.1//NONSGML v1.0//EN
CALSCALE:GREGORIAN
METHOD:PUBLISH
X-WR-CALNAME:Whiting Library
X-ORIGINAL-URL:https://www.whitinglibrary.org
X-WR-CALDESC:Events for Whiting Library
REFRESH-INTERVAL;VALUE=DURATION:PT1H
X-Robots-Tag:noindex
X-PUBLISHED-TTL:PT1H
BEGIN:VTIMEZONE
TZID:America/New_York
BEGIN:DAYLIGHT
TZOFFSETFROM:-0500
TZOFFSETTO:-0400
TZNAME:EDT
DTSTART:20250309T070000
END:DAYLIGHT
BEGIN:STANDARD
TZOFFSETFROM:-0400
TZOFFSETTO:-0500
TZNAME:EST
DTSTART:20251102T060000
END:STANDARD
BEGIN:DAYLIGHT
TZOFFSETFROM:-0500
TZOFFSETTO:-0400
TZNAME:EDT
DTSTART:20260308T070000
END:DAYLIGHT
BEGIN:STANDARD
TZOFFSETFROM:-0400
TZOFFSETTO:-0500
TZNAME:EST
DTSTART:20261101T060000
END:STANDARD
BEGIN:DAYLIGHT
TZOFFSETFROM:-0500
TZOFFSETTO:-0400
TZNAME:EDT
DTSTART:20270314T070000
END:DAYLIGHT
BEGIN:STANDARD
TZOFFSETFROM:-0400
TZOFFSETTO:-0500
TZNAME:EST
DTSTART:20271107T060000
END:STANDARD
END:VTIMEZONE
BEGIN:VEVENT
DTSTART;TZID=America/New_York:20260507T190000
DTEND;TZID=America/New_York:20260507T200000
DTSTAMP:20260423T175129
CREATED:20260324T195949Z
LAST-MODIFIED:20260324T195949Z
UID:12036-1778180400-1778184000@www.whitinglibrary.org
SUMMARY:Virtual Author Talk: On Courage\, Turmoil\, and the Transformative Power of Love with Marjan Kamali
DESCRIPTION:REGISTER FOR LIVE EVENT HERE: https://libraryc.org/whitinglibrary/155483/register \nWATCH RECORDING AFTER EVENT HERE: https://libraryc.org/whitinglibrary/archive \n  \nJoin us on May 7th at 7 PM for an exciting online conversation with internationally acclaimed author Marjan Kamali as we delve into the timeless wonder of her New York Times bestselling novel\, The Lion Women of Tehran. \nIn 1950s Tehran\, seven-year-old Ellie lives in grand comfort until the untimely death of her father\, forcing Ellie and her mother to move to a tiny home downtown. Lonely and bearing the brunt of her mother’s endless grievances\, Ellie dreams for a friend to alleviate her isolation. \nLuckily\, on the first day of school\, she meets Homa\, a kind girl with a brave and irrepressible spirit. Together\, the two girls play games\, learn to cook in the stone kitchen of Homa’s warm home\, wander through the colorful stalls of the Grand Bazaar\, and share their ambitions of becoming “lion women.” \nBut their happiness is disrupted when Ellie and her mother are afforded the opportunity to return to their previous bourgeois life. Now a popular student at the best girls’ high school in Iran\, Ellie’s memories of Homa begin to fade. Years later\, however\, her sudden reappearance in Ellie’s privileged world alters the course of both of their lives. \nTogether\, the two young women come of age and pursue their own goals for meaningful futures. But as the political turmoil in Iran builds to a breaking point\, one earth-shattering betrayal will have enormous consequences. \nRegister now to hear directly from the author about the crafting of her tender\, yet immensely powerful work. \nAbout the Author: \nMarjan Kamali\, born in Turkey to Iranian parents\, is the New York Times bestselling author of The Lion Women of Tehran\, The Stationery Shop\, and Together Tea. She is the 2022 recipient of the National Endowment for the Arts Creative Writing Award. Her books have been translated into over thirty languages. Marjan lives with her family in the Boston area.
URL:https://www.whitinglibrary.org/event/virtual-author-talk-on-courage-turmoil-and-the-transformative-power-of-love-with-marjan-kamali/
CATEGORIES:Adults,Book Discussion
END:VEVENT
END:VCALENDAR