BEGIN:VCALENDAR
VERSION:2.0
PRODID:-//Whiting Library - ECPv6.15.16.1//NONSGML v1.0//EN
CALSCALE:GREGORIAN
METHOD:PUBLISH
X-WR-CALNAME:Whiting Library
X-ORIGINAL-URL:https://www.whitinglibrary.org
X-WR-CALDESC:Events for Whiting Library
REFRESH-INTERVAL;VALUE=DURATION:PT1H
X-Robots-Tag:noindex
X-PUBLISHED-TTL:PT1H
BEGIN:VTIMEZONE
TZID:America/New_York
BEGIN:DAYLIGHT
TZOFFSETFROM:-0500
TZOFFSETTO:-0400
TZNAME:EDT
DTSTART:20250309T070000
END:DAYLIGHT
BEGIN:STANDARD
TZOFFSETFROM:-0400
TZOFFSETTO:-0500
TZNAME:EST
DTSTART:20251102T060000
END:STANDARD
BEGIN:DAYLIGHT
TZOFFSETFROM:-0500
TZOFFSETTO:-0400
TZNAME:EDT
DTSTART:20260308T070000
END:DAYLIGHT
BEGIN:STANDARD
TZOFFSETFROM:-0400
TZOFFSETTO:-0500
TZNAME:EST
DTSTART:20261101T060000
END:STANDARD
BEGIN:DAYLIGHT
TZOFFSETFROM:-0500
TZOFFSETTO:-0400
TZNAME:EDT
DTSTART:20270314T070000
END:DAYLIGHT
BEGIN:STANDARD
TZOFFSETFROM:-0400
TZOFFSETTO:-0500
TZNAME:EST
DTSTART:20271107T060000
END:STANDARD
END:VTIMEZONE
BEGIN:VEVENT
DTSTART;TZID=America/New_York:20260603T140000
DTEND;TZID=America/New_York:20260603T150000
DTSTAMP:20260423T193738
CREATED:20260324T203236Z
LAST-MODIFIED:20260324T203236Z
UID:12046-1780495200-1780498800@www.whitinglibrary.org
SUMMARY:Virtual Author Event: Your Ticket to the Best State Fair Crafts with Smithsonian Curator Mary Savig
DESCRIPTION:REGISTER FOR LIVE EVENT HERE: https://libraryc.org/whitinglibrary/161311/register \nWATCH RECORDING AFTER EVENT HERE: https://libraryc.org/whitinglibrary/archive \n  \nJoin us on June 3rd at 2 PM online for a fascinating discussion with Smithsonian Curator Mary Savig on the history and significance of craft at state fairs—from blue-ribbon quilts to sculpted butter cows\, and so much more! \nA Dolly Parton crop art portrait. Size-96 cowboy boots. A button quilt. State Fairs: Growing American Craft features more than 100 photos of extraordinary and unconventional crafts from state and tribal fairs\, including needlework\, basketry\, jewelry\, ceramics\, crop art\, butter sculpture\, and saddles. The catalog highlights personal stories and regional and cultural traditions\, creating a vibrant portrait of American life. Come one\, come all! State Fairs has a little something for everyone. \nRegister now to hear about the fascinating (and often surprising) world of American state fair crafts! \nAbout the Author: \nMary Savig is The Fleur and Charles Bresler Curator-in-Charge of the Smithsonian American Art Museum’s Renwick Gallery. She holds a PhD in American Studies from the University of Maryland\, College Park.
URL:https://www.whitinglibrary.org/event/virtual-author-event-your-ticket-to-the-best-state-fair-crafts-with-smithsonian-curator-mary-savig/
CATEGORIES:Adults,Book Discussion
END:VEVENT
END:VCALENDAR