BEGIN:VCALENDAR
VERSION:2.0
PRODID:-//Whiting Library - ECPv6.15.16.1//NONSGML v1.0//EN
CALSCALE:GREGORIAN
METHOD:PUBLISH
X-WR-CALNAME:Whiting Library
X-ORIGINAL-URL:https://www.whitinglibrary.org
X-WR-CALDESC:Events for Whiting Library
REFRESH-INTERVAL;VALUE=DURATION:PT1H
X-Robots-Tag:noindex
X-PUBLISHED-TTL:PT1H
BEGIN:VTIMEZONE
TZID:America/New_York
BEGIN:DAYLIGHT
TZOFFSETFROM:-0500
TZOFFSETTO:-0400
TZNAME:EDT
DTSTART:20230312T070000
END:DAYLIGHT
BEGIN:STANDARD
TZOFFSETFROM:-0400
TZOFFSETTO:-0500
TZNAME:EST
DTSTART:20231105T060000
END:STANDARD
BEGIN:DAYLIGHT
TZOFFSETFROM:-0500
TZOFFSETTO:-0400
TZNAME:EDT
DTSTART:20240310T070000
END:DAYLIGHT
BEGIN:STANDARD
TZOFFSETFROM:-0400
TZOFFSETTO:-0500
TZNAME:EST
DTSTART:20241103T060000
END:STANDARD
BEGIN:DAYLIGHT
TZOFFSETFROM:-0500
TZOFFSETTO:-0400
TZNAME:EDT
DTSTART:20250309T070000
END:DAYLIGHT
BEGIN:STANDARD
TZOFFSETFROM:-0400
TZOFFSETTO:-0500
TZNAME:EST
DTSTART:20251102T060000
END:STANDARD
END:VTIMEZONE
BEGIN:VEVENT
DTSTART;TZID=America/New_York:20240907T123000
DTEND;TZID=America/New_York:20240907T133000
DTSTAMP:20260425T083858
CREATED:20240820T024356Z
LAST-MODIFIED:20240820T024423Z
UID:8514-1725712200-1725715800@www.whitinglibrary.org
SUMMARY:Cook the Book Club: Ethiopia: Recipes and Traditions from the Horn of Africa by Yohanis Gebreyesus
DESCRIPTION:All are welcome at this cookbook gathering for people who love books\, cooking\, planning meals\, and sharing good food with friends. Participants cook a recipe using our current cookbook (see below) and bring a sample and a copy of the recipe to the group for discussion. At the meeting\, participants will sample each other’s dishes and discuss the cookbooks\, dishes\, and cooking techniques involved. Making and sharing a dish is optional. Everyone is welcome to attend and to learn something new. \n“Ethiopia: Recipes and Traditions from the Horn of Africa” by Yohanis Gebreyesus: Experience the wonderful flavors of Ethiopia and Chef Yohanis’s dazzling collection of recipes. Ethiopia stands as a land apart: never colonized\, it celebrates ancient traditions. The fascinatingly distinct cuisine is influenced by a history enriched with a religious mix of Judaism\, Christianity\, and Islam\, as well as some of the most fertile land on the continent. \nFood served at this program will be prepared in home kitchens. Participation in food-related programs is at your own risk; Whiting Library cannot guarantee that food served at this program has not come into contact with tree nuts\, soy\, or other allergens. 
URL:https://www.whitinglibrary.org/event/cook-the-book-club-ethiopia-recipes-and-traditions-from-the-horn-of-africa-by-yohanis-gebreyesus/
CATEGORIES:Adults,Book Discussion
ATTACH;FMTTYPE=image/png:https://www.whitinglibrary.org/wp-content/uploads/2024/08/ethophia.png
ORGANIZER;CN="Whiting Library":MAILTO:whitinglibrary1@gmail.com
END:VEVENT
END:VCALENDAR