BEGIN:VCALENDAR
VERSION:2.0
PRODID:-//Whiting Library - ECPv6.15.16.1//NONSGML v1.0//EN
CALSCALE:GREGORIAN
METHOD:PUBLISH
X-WR-CALNAME:Whiting Library
X-ORIGINAL-URL:https://www.whitinglibrary.org
X-WR-CALDESC:Events for Whiting Library
REFRESH-INTERVAL;VALUE=DURATION:PT1H
X-Robots-Tag:noindex
X-PUBLISHED-TTL:PT1H
BEGIN:VTIMEZONE
TZID:America/New_York
BEGIN:DAYLIGHT
TZOFFSETFROM:-0500
TZOFFSETTO:-0400
TZNAME:EDT
DTSTART:20250309T070000
END:DAYLIGHT
BEGIN:STANDARD
TZOFFSETFROM:-0400
TZOFFSETTO:-0500
TZNAME:EST
DTSTART:20251102T060000
END:STANDARD
BEGIN:DAYLIGHT
TZOFFSETFROM:-0500
TZOFFSETTO:-0400
TZNAME:EDT
DTSTART:20260308T070000
END:DAYLIGHT
BEGIN:STANDARD
TZOFFSETFROM:-0400
TZOFFSETTO:-0500
TZNAME:EST
DTSTART:20261101T060000
END:STANDARD
BEGIN:DAYLIGHT
TZOFFSETFROM:-0500
TZOFFSETTO:-0400
TZNAME:EDT
DTSTART:20270314T070000
END:DAYLIGHT
BEGIN:STANDARD
TZOFFSETFROM:-0400
TZOFFSETTO:-0500
TZNAME:EST
DTSTART:20271107T060000
END:STANDARD
END:VTIMEZONE
BEGIN:VEVENT
DTSTART;TZID=America/New_York:20260310T103000
DTEND;TZID=America/New_York:20260310T113000
DTSTAMP:20260424T235818
CREATED:20260220T204236Z
LAST-MODIFIED:20260220T204236Z
UID:11766-1773138600-1773142200@www.whitinglibrary.org
SUMMARY:Playgroup for Littles (0-5) & Caregivers
DESCRIPTION:Whiting Library is home to a weekly playgroup for the Littles (0-5 years old) and their caregivers on Tuesdays at 10 a.m. until 11:30 a.m. This is a free\, fun and relaxed gathering where little kids play while their grown ups supervise and socialize. \nNo need to pre-register\, simply drop in to the library Community Room. Stay as long or as little as you like. Geared towards Caregivers who want to find friendship and build connections in the greater wee little people (0-5 years old) community. \nFun & games in the community room downstairs! \nEveryone learns best through play! Contact our Youth Librarian\, for more information via youthlibrarian@whitinglibrary.org or call 802-875-2277.
URL:https://www.whitinglibrary.org/event/playgroup-for-littles-0-5-caregivers-2/
LOCATION:Whiting Library\, 117 Main St.\, CHESTER\, VT\, 05143\, United States
CATEGORIES:Children and Youth Events
ATTACH;FMTTYPE=image/jpeg:https://www.whitinglibrary.org/wp-content/uploads/2023/12/2024-Play-Group-@Whiting-Library-Instagram-Post.jpg
ORGANIZER;CN="Whiting Library":MAILTO:whitinglibrary1@gmail.com
END:VEVENT
END:VCALENDAR