BEGIN:VCALENDAR
VERSION:2.0
PRODID:-//Whiting Library - ECPv6.15.16.1//NONSGML v1.0//EN
CALSCALE:GREGORIAN
METHOD:PUBLISH
X-WR-CALNAME:Whiting Library
X-ORIGINAL-URL:https://www.whitinglibrary.org
X-WR-CALDESC:Events for Whiting Library
REFRESH-INTERVAL;VALUE=DURATION:PT1H
X-Robots-Tag:noindex
X-PUBLISHED-TTL:PT1H
BEGIN:VTIMEZONE
TZID:America/New_York
BEGIN:DAYLIGHT
TZOFFSETFROM:-0500
TZOFFSETTO:-0400
TZNAME:EDT
DTSTART:20250309T070000
END:DAYLIGHT
BEGIN:STANDARD
TZOFFSETFROM:-0400
TZOFFSETTO:-0500
TZNAME:EST
DTSTART:20251102T060000
END:STANDARD
BEGIN:DAYLIGHT
TZOFFSETFROM:-0500
TZOFFSETTO:-0400
TZNAME:EDT
DTSTART:20260308T070000
END:DAYLIGHT
BEGIN:STANDARD
TZOFFSETFROM:-0400
TZOFFSETTO:-0500
TZNAME:EST
DTSTART:20261101T060000
END:STANDARD
BEGIN:DAYLIGHT
TZOFFSETFROM:-0500
TZOFFSETTO:-0400
TZNAME:EDT
DTSTART:20270314T070000
END:DAYLIGHT
BEGIN:STANDARD
TZOFFSETFROM:-0400
TZOFFSETTO:-0500
TZNAME:EST
DTSTART:20271107T060000
END:STANDARD
END:VTIMEZONE
BEGIN:VEVENT
DTSTART;TZID=America/New_York:20260408T100000
DTEND;TZID=America/New_York:20260408T110000
DTSTAMP:20260424T202657
CREATED:20260220T202300Z
LAST-MODIFIED:20260318T201550Z
UID:11737-1775642400-1775646000@www.whitinglibrary.org
SUMMARY:Little Sprouts Garden Day
DESCRIPTION:Springfield Area Parent Child Center Family Engagement Specialist Krista Wilson and Family Support Worker Robbie Wierzbicki invite children and families to dig in and grow some fun with us at the Whiting Library!   \nJoin us for a hands-on gardening adventure! Children and their caregivers will get creative decorating their own planting pots and then plant seeds to grow flowers and veggies. Get ready for a little soil\, a lot of smiles\, and seeds of confidence to grow right along with your plants! \nFamilies will learn how to care for their new plants while building patience\, creativity\, and a love for nature together. \nTake the fun home with you! Each family registered will receive a to-go bag with gardening materials and a children’s book celebrating the joy of gardening.   \nLook for us in the Community Room downstairs. \nPreregistration is appreciated but not required—drop-ins are always welcome! To sign up\, call the library at 802-875-2277 or email Carrie at youthlibrarian@whitinglibrary.org. \n 
URL:https://www.whitinglibrary.org/event/story-time-with-special-guests/
LOCATION:Whiting Library\, 117 Main St.\, CHESTER\, VT\, 05143\, United States
CATEGORIES:Children and Youth Events
ATTACH;FMTTYPE=image/webp:https://www.whitinglibrary.org/wp-content/uploads/2025/05/Story-Time-Animals-Library-Poster-in-Colorful-Cartoon.webp
ORGANIZER;CN="Whiting Library":MAILTO:whitinglibrary1@gmail.com
END:VEVENT
BEGIN:VEVENT
DTSTART;TZID=America/New_York:20260408T150000
DTEND;TZID=America/New_York:20260408T160000
DTSTAMP:20260424T202657
CREATED:20251024T213323Z
LAST-MODIFIED:20260318T194303Z
UID:10735-1775660400-1775664000@www.whitinglibrary.org
SUMMARY:Celebrate National Unicorn Day!
DESCRIPTION:Join Carrie for a magical hour filled with stories and creativity as we celebrate the legendary unicorn! We’ll read enchanting books and create unicorn-inspired art while learning about the history of this mythical creature. The unicorn has been a symbol on the Scottish coat of arms since the 12th century and has appeared in myths and legends throughout history. With such a long and fascinating past\, it’s no wonder National Unicorn Day on April 9th was officially introduced in 2015! \nSpace is limited\, please contact the library either during opening hours to make a reservation by calling 802-875-2277 or by completing this RSVP form.  Thank you to those who register—it helps us plan for everyone! \nPerfect for elementary school-aged kids. Contact Carrie Roy King\, Youth Librarian with any questions by emailing youthlibrarian@whitinglibrary.org or calling 802-875-2277.
URL:https://www.whitinglibrary.org/event/celebrate-national-unicorn-day/
LOCATION:Whiting Library\, 117 Main St.\, CHESTER\, VT\, 05143\, United States
CATEGORIES:Children and Youth Events
ATTACH;FMTTYPE=image/webp:https://www.whitinglibrary.org/wp-content/uploads/2025/10/2026.pdf.webp
ORGANIZER;CN="Whiting Library":MAILTO:whitinglibrary1@gmail.com
END:VEVENT
END:VCALENDAR