BEGIN:VCALENDAR
VERSION:2.0
PRODID:-//Whiting Library - ECPv6.15.16.1//NONSGML v1.0//EN
CALSCALE:GREGORIAN
METHOD:PUBLISH
X-WR-CALNAME:Whiting Library
X-ORIGINAL-URL:https://www.whitinglibrary.org
X-WR-CALDESC:Events for Whiting Library
REFRESH-INTERVAL;VALUE=DURATION:PT1H
X-Robots-Tag:noindex
X-PUBLISHED-TTL:PT1H
BEGIN:VTIMEZONE
TZID:America/New_York
BEGIN:DAYLIGHT
TZOFFSETFROM:-0500
TZOFFSETTO:-0400
TZNAME:EDT
DTSTART:20250309T070000
END:DAYLIGHT
BEGIN:STANDARD
TZOFFSETFROM:-0400
TZOFFSETTO:-0500
TZNAME:EST
DTSTART:20251102T060000
END:STANDARD
BEGIN:DAYLIGHT
TZOFFSETFROM:-0500
TZOFFSETTO:-0400
TZNAME:EDT
DTSTART:20260308T070000
END:DAYLIGHT
BEGIN:STANDARD
TZOFFSETFROM:-0400
TZOFFSETTO:-0500
TZNAME:EST
DTSTART:20261101T060000
END:STANDARD
BEGIN:DAYLIGHT
TZOFFSETFROM:-0500
TZOFFSETTO:-0400
TZNAME:EDT
DTSTART:20270314T070000
END:DAYLIGHT
BEGIN:STANDARD
TZOFFSETFROM:-0400
TZOFFSETTO:-0500
TZNAME:EST
DTSTART:20271107T060000
END:STANDARD
END:VTIMEZONE
BEGIN:VEVENT
DTSTART;TZID=America/New_York:20260414T100000
DTEND;TZID=America/New_York:20260414T113000
DTSTAMP:20260424T202722
CREATED:20260220T211918Z
LAST-MODIFIED:20260408T212111Z
UID:11776-1776160800-1776166200@www.whitinglibrary.org
SUMMARY:FULL: Play\, Connect\, and Learn: A Family Place Immersion Experience
DESCRIPTION:The 4/14/26 playgroup is full. Thank you for reserving your spot in advance.\nPlaygroup Update at Whiting Library\, Reserve Your Spot Here\, The number of  participants will be limited in order to provide a higher quality of experience.  \nPlay\, Connect\, and Learn: A Family Place Immersion Experience\n With Cara Tyrrell | Week of the Young Child Special Program \nJoin us for a 90-minute interactive\, play-based learning experience designed especially for families with infants and toddlers. \nThis special session will be facilitated by Cara Tyrrell\, a Chester-based early childhood teacher trainer\, author\, and parent educator. Instead of a traditional author talk\, this experience takes place right in our Family Place play environment—where learning happens through play\, connection\, and real-life moments. \nDrawing from her new book\, Talk to Them Early and Often: A Caregiver’s Guide to Intentional Language Development for Infants and Toddlers\, Cara will guide caregivers through simple\, powerful ways to support their child’s development through everyday language. \nWhat to expect: \n\nLive modeling of intentional language during play\nOpportunities to practice with your child in real time\nGentle coaching and reflection throughout the session\nA free copy of the book to take home\n\nYou’ll learn: \n\nWhy language plays a key role in brain development and emotional regulation\nWhat intentional language sounds like in everyday moments\nHow to adapt your words to your child’s temperament\nHow to stay connected—even during challenging moments\n\nBonus Follow-Up Session:\nJoin us again on Saturday\, May 9 at 10AM for a relaxed author chat with Cara\, where you can ask questions and get support as you begin using these strategies at home. \nThis two-part experience is designed to be practical\, supportive\, and immediately useful for families. \nWOYC Flyer Chester \nOur Tuesday Morning Playgroup has grown into something truly special\, and I’m so grateful to see so many families connecting\, playing\, and learning together. It’s been wonderful to watch this community grow! \nWith that growth\, we’ve reached a point where a few changes will help keep playgroup a calm\, safe\, and engaging experience for everyone—especially our youngest participants. \nWhen playgroup resumes in April\, here’s what to expect: \n\nAttendance will be limited to 6 adults (with their children) per session\nAdvance sign-up will be required to help families plan ahead. RSVP here!\nDrop-ins may be welcomed only if space allows.\nPlaygroup is designed with children ages 0–3 in mind\n\nWe’ll prioritize reservations for families with children ages 3 and under.\nIf space allows\, families with older children are always welcome to join.\n\n\n\n\nThese adjustments will help create a more relaxed environment where little ones can explore\, play\, and build early literacy skills at their own pace. \nThank you for your understanding and for being such an important part of this growing playgroup community. Contact me\, your Youth Librarian\, for more information via youthlibrarian@whitinglibrary.org or call 802-875-2277.  \nWarmly\,\n Carrie\n Youth Services Librarian\n Whiting Library \n 
URL:https://www.whitinglibrary.org/event/playgroup-for-littles-0-5-caregivers-7/
LOCATION:Whiting Library\, 117 Main St.\, CHESTER\, VT\, 05143\, United States
CATEGORIES:Children and Youth Events,Families
ATTACH;FMTTYPE=image/jpeg:https://www.whitinglibrary.org/wp-content/uploads/2026/02/Cara-Tyrrell-Headshot-scaled.jpg
ORGANIZER;CN="Whiting Library":MAILTO:whitinglibrary1@gmail.com
END:VEVENT
END:VCALENDAR