BEGIN:VCALENDAR
VERSION:2.0
PRODID:-//Whiting Library - ECPv6.15.16.1//NONSGML v1.0//EN
CALSCALE:GREGORIAN
METHOD:PUBLISH
X-ORIGINAL-URL:https://www.whitinglibrary.org
X-WR-CALDESC:Events for Whiting Library
REFRESH-INTERVAL;VALUE=DURATION:PT1H
X-Robots-Tag:noindex
X-PUBLISHED-TTL:PT1H
BEGIN:VTIMEZONE
TZID:America/New_York
BEGIN:DAYLIGHT
TZOFFSETFROM:-0500
TZOFFSETTO:-0400
TZNAME:EDT
DTSTART:20250309T070000
END:DAYLIGHT
BEGIN:STANDARD
TZOFFSETFROM:-0400
TZOFFSETTO:-0500
TZNAME:EST
DTSTART:20251102T060000
END:STANDARD
BEGIN:DAYLIGHT
TZOFFSETFROM:-0500
TZOFFSETTO:-0400
TZNAME:EDT
DTSTART:20260308T070000
END:DAYLIGHT
BEGIN:STANDARD
TZOFFSETFROM:-0400
TZOFFSETTO:-0500
TZNAME:EST
DTSTART:20261101T060000
END:STANDARD
BEGIN:DAYLIGHT
TZOFFSETFROM:-0500
TZOFFSETTO:-0400
TZNAME:EDT
DTSTART:20270314T070000
END:DAYLIGHT
BEGIN:STANDARD
TZOFFSETFROM:-0400
TZOFFSETTO:-0500
TZNAME:EST
DTSTART:20271107T060000
END:STANDARD
END:VTIMEZONE
BEGIN:VEVENT
DTSTART;TZID=America/New_York:20260520T100000
DTEND;TZID=America/New_York:20260520T110000
DTSTAMP:20260424T235935
CREATED:20260220T203126Z
LAST-MODIFIED:20260220T203126Z
UID:11752-1779271200-1779274800@www.whitinglibrary.org
SUMMARY:Story Time
DESCRIPTION:This weekly program is geared toward children ages 0–5 and their caregivers. You’re encouraged to arrive between 10:00–10:15 AM to give little ones time to get settled. We’ll begin with about 10-15 minutes of songs\, poems and stories\, followed by free play and art activities designed to support early learning. \nStory Time is essential for building literacy skills—it fosters language development\, imagination\, and social-emotional growth. The program wraps up at 11:00 AM. \nLook for us in the Community Room downstairs\, or\, if the weather is nice\, we may be outside in the backyard. \nPreregistration is appreciated but not required—drop-ins are always welcome! To sign up\, call the library at 802-875-2277 or email Carrie at youthlibrarian@whitinglibrary.org.
URL:https://www.whitinglibrary.org/event/story-time-56/
LOCATION:Whiting Library\, 117 Main St.\, CHESTER\, VT\, 05143\, United States
CATEGORIES:Children and Youth Events
ATTACH;FMTTYPE=image/webp:https://www.whitinglibrary.org/wp-content/uploads/2025/05/Story-Time-Animals-Library-Poster-in-Colorful-Cartoon.webp
ORGANIZER;CN="Whiting Library":MAILTO:whitinglibrary1@gmail.com
END:VEVENT
BEGIN:VEVENT
DTSTART;TZID=America/New_York:20260520T150000
DTEND;TZID=America/New_York:20260520T160000
DTSTAMP:20260424T235935
CREATED:20260411T162300Z
LAST-MODIFIED:20260411T162339Z
UID:12202-1779289200-1779292800@www.whitinglibrary.org
SUMMARY:Origami Ninja Stars🥷✨
DESCRIPTION:Get ready to fold\, flip\, and create! Join us for an exciting origami program where kids will learn how to make their very own ninja star (shuriken) using just one sheet of paper. \nWith step-by-step guidance\, participants will transform simple paper into a cool\, spinning design. Once you learn how\, you won’t want to stop at just one! Each star takes about 10 minutes to make\, so there’s plenty of time to practice and create more. \nShuriken\, also known as ninja stars\, were once used in Japan as tools to distract or surprise\, but today\, we’ll focus on the art of paper folding and creative fun! \n📅 Wednesday\, May 20🕒 3:00–4:00 PM📍 Whiting Library \nPerfect for elementary school-aged kids. Come give it a try and become a paper-folding ninja!
URL:https://www.whitinglibrary.org/event/origami-ninja-stars-at-whiting-library-%f0%9f%a5%b7%e2%9c%a8/
LOCATION:Whiting Library\, 117 Main St.\, CHESTER\, VT\, 05143\, United States
CATEGORIES:Children and Youth Events
ATTACH;FMTTYPE=image/jpeg:https://www.whitinglibrary.org/wp-content/uploads/2026/04/5.20.26-Oragami-Ninja-Star-folding-Invitation.jpg
ORGANIZER;CN="Whiting Library":MAILTO:whitinglibrary1@gmail.com
END:VEVENT
END:VCALENDAR