BEGIN:VCALENDAR
VERSION:2.0
PRODID:-//Whiting Library - ECPv6.15.16.1//NONSGML v1.0//EN
CALSCALE:GREGORIAN
METHOD:PUBLISH
X-WR-CALNAME:Whiting Library
X-ORIGINAL-URL:https://www.whitinglibrary.org
X-WR-CALDESC:Events for Whiting Library
REFRESH-INTERVAL;VALUE=DURATION:PT1H
X-Robots-Tag:noindex
X-PUBLISHED-TTL:PT1H
BEGIN:VTIMEZONE
TZID:America/New_York
BEGIN:DAYLIGHT
TZOFFSETFROM:-0500
TZOFFSETTO:-0400
TZNAME:EDT
DTSTART:20250309T070000
END:DAYLIGHT
BEGIN:STANDARD
TZOFFSETFROM:-0400
TZOFFSETTO:-0500
TZNAME:EST
DTSTART:20251102T060000
END:STANDARD
BEGIN:DAYLIGHT
TZOFFSETFROM:-0500
TZOFFSETTO:-0400
TZNAME:EDT
DTSTART:20260308T070000
END:DAYLIGHT
BEGIN:STANDARD
TZOFFSETFROM:-0400
TZOFFSETTO:-0500
TZNAME:EST
DTSTART:20261101T060000
END:STANDARD
BEGIN:DAYLIGHT
TZOFFSETFROM:-0500
TZOFFSETTO:-0400
TZNAME:EDT
DTSTART:20270314T070000
END:DAYLIGHT
BEGIN:STANDARD
TZOFFSETFROM:-0400
TZOFFSETTO:-0500
TZNAME:EST
DTSTART:20271107T060000
END:STANDARD
END:VTIMEZONE
BEGIN:VEVENT
DTSTART;TZID=America/New_York:20260527T100000
DTEND;TZID=America/New_York:20260527T110000
DTSTAMP:20260424T235044
CREATED:20260220T203223Z
LAST-MODIFIED:20260220T203728Z
UID:11754-1779876000-1779879600@www.whitinglibrary.org
SUMMARY:Story Time
DESCRIPTION:This weekly program is geared toward children ages 0–5 and their caregivers. You’re encouraged to arrive between 10:00–10:15 AM to give little ones time to get settled. We’ll begin with about 10-15 minutes of songs\, poems and stories\, followed by free play and art activities designed to support early learning. \nStory Time is essential for building literacy skills—it fosters language development\, imagination\, and social-emotional growth. The program wraps up at 11:00 AM. \nLook for us in the Community Room downstairs\, or\, if the weather is nice\, we may be outside in the backyard. \nPreregistration is appreciated but not required—drop-ins are always welcome! To sign up\, call the library at 802-875-2277 or email Carrie at youthlibrarian@whitinglibrary.org.
URL:https://www.whitinglibrary.org/event/story-time-57/
LOCATION:Whiting Library\, 117 Main St.\, CHESTER\, VT\, 05143\, United States
CATEGORIES:Children and Youth Events
ATTACH;FMTTYPE=image/webp:https://www.whitinglibrary.org/wp-content/uploads/2025/05/Story-Time-Animals-Library-Poster-in-Colorful-Cartoon.webp
ORGANIZER;CN="Whiting Library":MAILTO:whitinglibrary1@gmail.com
END:VEVENT
BEGIN:VEVENT
DTSTART;TZID=America/New_York:20260527T150000
DTEND;TZID=America/New_York:20260527T160000
DTSTAMP:20260424T235044
CREATED:20251024T212733Z
LAST-MODIFIED:20260220T203743Z
UID:10733-1779894000-1779897600@www.whitinglibrary.org
SUMMARY:LEGO Builders Club
DESCRIPTION:Build\, play\, and create at the library! At this event kids can design their own masterpiece\, then display it in the Youth Room. Play isn’t just fun—it builds problem-solving\, motor skills\, and storytelling\, all essential to literacy growth. Younger siblings can enjoy big blocks\, and building books are on hand for inspiration. \n\n📅 Wednesdays\, May 27\n🕒 3–4 PM\n📍 Whiting Library \n📞 RSVP at 802-875-2277 — contact Carrie King\, Youth Librarian (youthlibrarian@whitinglibrary.org) for more info! \nAnd don’t forget—you don’t have to wait for program days to build. When you come to the library\, I’ll be happy to show you our big box of LEGOs and a comfy spot to make your masterpiece. It’s also a great place to meet up with friends after school and get creative together! \n—Carrie
URL:https://www.whitinglibrary.org/event/lego-builders-club-7/
LOCATION:Whiting Library\, 117 Main St.\, CHESTER\, VT\, 05143\, United States
CATEGORIES:Children and Youth Events
ATTACH;FMTTYPE=image/webp:https://www.whitinglibrary.org/wp-content/uploads/2025/10/2026-LEGO-club-post-Instagram-Post-1.webp
ORGANIZER;CN="Whiting Library":MAILTO:whitinglibrary1@gmail.com
END:VEVENT
END:VCALENDAR