BEGIN:VCALENDAR
VERSION:2.0
PRODID:-//Whiting Library - ECPv6.15.16.1//NONSGML v1.0//EN
CALSCALE:GREGORIAN
METHOD:PUBLISH
X-ORIGINAL-URL:https://www.whitinglibrary.org
X-WR-CALDESC:Events for Whiting Library
REFRESH-INTERVAL;VALUE=DURATION:PT1H
X-Robots-Tag:noindex
X-PUBLISHED-TTL:PT1H
BEGIN:VTIMEZONE
TZID:America/New_York
BEGIN:DAYLIGHT
TZOFFSETFROM:-0500
TZOFFSETTO:-0400
TZNAME:EDT
DTSTART:20250309T070000
END:DAYLIGHT
BEGIN:STANDARD
TZOFFSETFROM:-0400
TZOFFSETTO:-0500
TZNAME:EST
DTSTART:20251102T060000
END:STANDARD
BEGIN:DAYLIGHT
TZOFFSETFROM:-0500
TZOFFSETTO:-0400
TZNAME:EDT
DTSTART:20260308T070000
END:DAYLIGHT
BEGIN:STANDARD
TZOFFSETFROM:-0400
TZOFFSETTO:-0500
TZNAME:EST
DTSTART:20261101T060000
END:STANDARD
BEGIN:DAYLIGHT
TZOFFSETFROM:-0500
TZOFFSETTO:-0400
TZNAME:EDT
DTSTART:20270314T070000
END:DAYLIGHT
BEGIN:STANDARD
TZOFFSETFROM:-0400
TZOFFSETTO:-0500
TZNAME:EST
DTSTART:20271107T060000
END:STANDARD
END:VTIMEZONE
BEGIN:VEVENT
DTSTART;TZID=America/New_York:20260505T100000
DTEND;TZID=America/New_York:20260505T113000
DTSTAMP:20260423T162001
CREATED:20260221T163932Z
LAST-MODIFIED:20260331T212919Z
UID:11799-1777975200-1777980600@www.whitinglibrary.org
SUMMARY:Playgroup for Littles (0-3) & Caregivers
DESCRIPTION:Playgroup Update at Whiting Library. Reserve your spot here.  \nOur Tuesday Morning Playgroup has grown into something truly special\, and I’m so grateful to see so many families connecting\, playing\, and learning together. It’s been wonderful to watch this community grow! \nWith that growth\, we’ve reached a point where a few changes will help keep playgroup a calm\, safe\, and engaging experience for everyone—especially our youngest participants. \nWhen playgroup resumes in April\, here’s what to expect: \n\nAttendance will be limited to 6 adults (with their children) per session\nAdvance sign-up will be required to help families plan ahead. RSVP here!\nDrop-ins may be welcomed only if space allows.\nPlaygroup is designed with children ages 0–3 in mind\n\nWe’ll prioritize reservations for families with children ages 3 and under.\nIf space allows\, families with older children are always welcome to join.\n\n\n\n\nThese adjustments will help create a more relaxed environment where little ones can explore\, play\, and build early literacy skills at their own pace. \nThank you for your understanding and for being such an important part of this growing playgroup community. Contact me\, your Youth Librarian\, for more information via youthlibrarian@whitinglibrary.org or call 802-875-2277.  \nWarmly\,\n Carrie\n Youth Services Librarian\n Whiting Library
URL:https://www.whitinglibrary.org/event/playgroup-for-littles-0-5-caregivers-10/
LOCATION:VT
CATEGORIES:Children and Youth Events,Families
ATTACH;FMTTYPE=image/jpeg:https://www.whitinglibrary.org/wp-content/uploads/2026/02/Play-Groups-@Whiting-Library-32026-Instagram-Post.jpg
END:VEVENT
BEGIN:VEVENT
DTSTART;TZID=America/New_York:20260509T103000
DTEND;TZID=America/New_York:20260509T113000
DTSTAMP:20260423T162001
CREATED:20260401T214509Z
LAST-MODIFIED:20260417T214119Z
UID:12126-1778322600-1778326200@www.whitinglibrary.org
SUMMARY:Talk to Them Early and Often: A Caregiver’s Guide to Intentional Language Development for Infants and Toddlers
DESCRIPTION:This author chat with Ms. Cara Tyrrell will be held at Whiting Library on Saturday\, May 9\, 10:30AM\, offering caregivers and families the opportunity to ask questions and receive additional guidance on applying these communication strategies at home. \nThis program is part of Whiting Library’s ongoing commitment to supporting families and building foundations for early learning in the community. \n\n\n\nJoin local author and early childhood educator Cara Tyrrell for an engaging talk and Q&A based on her book: \n\n\n\nDiscover how everyday moments can become powerful opportunities for connection and learning. \nYou’ll learn how to: \n\nUse simple\, effective language to support your child’s development\nStrengthen your relationship through everyday interactions\nSupport big emotions without power struggles\nTurn play into meaningful learning moments\nWords matter—they help build your child’s brain and shape their early sense of self.
URL:https://www.whitinglibrary.org/event/12126/
LOCATION:Whiting Library\, 117 Main St.\, CHESTER\, VT\, 05143\, United States
CATEGORIES:Children and Youth Events,Families
ATTACH;FMTTYPE=image/png:https://www.whitinglibrary.org/wp-content/uploads/2026/04/WOYC-Flyer-Chester.pdf.png
ORGANIZER;CN="Whiting Library":MAILTO:whitinglibrary1@gmail.com
END:VEVENT
BEGIN:VEVENT
DTSTART;TZID=America/New_York:20260512T100000
DTEND;TZID=America/New_York:20260512T113000
DTSTAMP:20260423T162001
CREATED:20260221T164130Z
LAST-MODIFIED:20260331T212857Z
UID:11801-1778580000-1778585400@www.whitinglibrary.org
SUMMARY:Playgroup for Littles (0-3) & Caregivers
DESCRIPTION:Playgroup Update at Whiting Library. Reserve your spot here. \nOur Tuesday Morning Playgroup has grown into something truly special\, and I’m so grateful to see so many families connecting\, playing\, and learning together. It’s been wonderful to watch this community grow! \nWith that growth\, we’ve reached a point where a few changes will help keep playgroup a calm\, safe\, and engaging experience for everyone—especially our youngest participants. \nWhen playgroup resumes in April\, here’s what to expect: \n\nAttendance will be limited to 6 adults (with their children) per session\nAdvance sign-up will be required to help families plan ahead. RSVP here!\nDrop-ins may be welcomed only if space allows.\nPlaygroup is designed with children ages 0–3 in mind\n\nWe’ll prioritize reservations for families with children ages 3 and under.\nIf space allows\, families with older children are always welcome to join.\n\n\n\n\nThese adjustments will help create a more relaxed environment where little ones can explore\, play\, and build early literacy skills at their own pace. \nThank you for your understanding and for being such an important part of this growing playgroup community. Contact me\, your Youth Librarian\, for more information via youthlibrarian@whitinglibrary.org or call 802-875-2277.  \nWarmly\,\n Carrie\n Youth Services Librarian\n Whiting Library
URL:https://www.whitinglibrary.org/event/playgroup-for-littles-0-5-caregivers-11/
LOCATION:Whiting Library\, 117 Main St.\, CHESTER\, VT\, 05143\, United States
CATEGORIES:Children and Youth Events,Families
ATTACH;FMTTYPE=image/jpeg:https://www.whitinglibrary.org/wp-content/uploads/2026/02/Play-Groups-@Whiting-Library-32026-Instagram-Post.jpg
ORGANIZER;CN="Whiting Library":MAILTO:whitinglibrary1@gmail.com
END:VEVENT
BEGIN:VEVENT
DTSTART;TZID=America/New_York:20260512T140000
DTEND;TZID=America/New_York:20260512T150000
DTSTAMP:20260423T162001
CREATED:20260324T200457Z
LAST-MODIFIED:20260324T200457Z
UID:12038-1778594400-1778598000@www.whitinglibrary.org
SUMMARY:Virtual Author Talks: How to Robot-Proof Your Kids (and Yourself) with Dr. Vivienne Ming
DESCRIPTION:REGISTER FOR LIVE EVENT HERE: https://libraryc.org/whitinglibrary/156118/register \nWATCH RECORDING AFTER EVENT HERE: https://libraryc.org/whitinglibrary/archive \nJoin us May 12th at 2 PM online for a timely conversation on AI\, humanity\, and the next steps towards building a better future with self-proclaimed “mad scientist” Dr. Vivienne Ming as we discuss her new book\, Robot-Proof: When Machines Have All the Answers\, Build Better People.  \nIn Robot-Proof\, Dr. Vivienne Ming helps readers grasp the ugly and the amazing of how individuals\, companies\, and societies will respond to the changes that are already taking hold due to the advent of AI. Robot-Proof is a book about people\, exploring what it means to be human in an increasingly automated world. \nThis book presents\, then answers\, pressing questions that readers may or may not have thought to themselves\, such as: \n\nWhat predicts long-term life outcomes across millions of little kids?\nWhy is the Informational-Exploration Paradox the most terrifying phenomenon you’ve never heard of?\nWhat predicts the smartest team and how will AI change it?\nWhy are ill-posed problems the future work\, education\, and a robot-proof humanity?\n\nWith poignant insight and delicate care to keep us grounded in the human perspective\, Robot-Proof is an entertaining and thought-provoking read for all individuals seeking to understand the next steps in a new and completely unprecedented world. \nRegister today to take part in the discussion! \nJoin us LIVE for a chance to win a copy of Vivienne’s book\, Robot-Proof! The giveaway link will be in the Resources area under the broadcast screen during the live event. Please ensure you are watching on your library’s webpage for the chance to participate.  \nAbout the Author: \nDr. Vivienne Ming explores maximizing human capacity as a theoretical neuroscientist\, delusional inventor\, and demented Author. Over her career she’s founded 7 startups\, been chief scientist at 2 others\, and founded The Human Trust\, a philanthropic data trust and “mad science incubator” building a foundation model for human development. She co-founded Possibility Sciences to advance scientific discovery via massive scale hybrid intelligence. She also develops AI tools for learning at home and in school\, models of bias in hiring and promotion\, and neurotechnologies for dementia\, TBI\, and postpartum depression. \nIn her free time\, Vivienne designs AI systems to treat her son’s diabetes\, predict manic episodes in bipolar sufferers\, and reunite orphan refugees with extended family members. For relaxation\, she writes science fiction and spends time with her wife and children. \nVivienne was named one of “10 Women to Watch in Tech” by Inc. Magazine and one of the BBC’s 100 Women in 2017. She is featured frequently for her research and inventions in The Financial Times\, The Atlantic\, Quartz Magazine and The New York Times. \n 
URL:https://www.whitinglibrary.org/event/virtual-author-talks-how-to-robot-proof-your-kids-and-yourself-with-dr-vivienne-ming/
LOCATION:VT
CATEGORIES:Adults,Book Discussion,Families
END:VEVENT
BEGIN:VEVENT
DTSTART;TZID=America/New_York:20260618T140000
DTEND;TZID=America/New_York:20260618T150000
DTSTAMP:20260423T162001
CREATED:20260324T203822Z
LAST-MODIFIED:20260324T203843Z
UID:12050-1781791200-1781794800@www.whitinglibrary.org
SUMMARY:Virtual Author Talks: Nurturing Future Generations: Stories from the Heart of Grandfatherhood with Ted Page
DESCRIPTION:REGISTER FOR LIVE EVENT HERE: https://libraryc.org/whitinglibrary/162547/register \nWATCH RECORDING AFTER EVENT HERE: https://libraryc.org/whitinglibrary/archive \n  \nJoin us on June 18th at 2 PM in virtual conversation with storyteller and popular blogger Ted Page as we chat about his book Good Grandpa: Stories from the Heart of Grandfatherhood. This heartfelt book highlights his journey to bring together the stories and wisdom of grandfathers from all walks of life—all with a mission to nurture the next great generation. \nWhen author Ted Page found out he was going to be a grandpa\, he did a web search to learn more about the experience in store for him\, but all he could find were references to the movie Bad Grandpa. He couldn’t help but wonder\, “Where are the good ones?” Page started a blog\, GoodGrandpa.com\, and set out to talk with grandfathers across a diverse spectrum. This included an NFL pro athlete\, a priest\, a rabbi\, an imam\, newsman Tom Brokaw\, comedy legend John Cleese\, Chinese and Indians\, physicians adapting to disability\, an air force general\, a Vietnam combat vet\, and many more—plus his Aunt Lois and the Dalai Lama\, because why not? \nAlong the way\, Page delved into family histories—his own and those of the grandpas he interviewed—to reveal fascinating stories and lessons for living a good life. In every conversation he asked grandpas for their number one most important piece of wisdom—one thing that could help our grandchildren grow to become the greatest generation of all time. Would the collective wisdom Page gathered turn out to be one singular idea\, or a constellation of north stars that illuminate a path toward a better future? A unified and unforgettable picture does in fact emerge. \nGood Grandpa is inspiring\, uplifting\, evocative\, and filled with genuine emotion. It is a recipe of hope for a divided America\, and the book that will be on every grandparent’s reading list. \nRegister today and find out why Ted Page says “our greatest generation is to come.” \nAbout the Author: \nTed Page is a storyteller and performer. He is the author of Good Grandpa: Stories from the Heart of Grandfatherhood (Regalo Press) featured on NBC’s The TODAY Show\, NPR and in Forbes Magazine. His nonfiction stories have appeared in Boston Magazine and the Boston Globe Magazine\, and his comedy screen credits include work with John Cleese and Florence Henderson. His blog for grandfathers—GoodGrandpa.com—has been featured in The New York Times. Ted’s book of true family stories\, The Willoughby Chronicles\, was published in 2017. He lives in New England and has a bunch of grandchildren.
URL:https://www.whitinglibrary.org/event/virtual-author-talks-nurturing-future-generations-stories-from-the-heart-of-grandfatherhood-with-ted-page/
LOCATION:VT
CATEGORIES:Adults,Book Discussion,Families
END:VEVENT
END:VCALENDAR